BEGIN:VCALENDAR
VERSION:2.0
PRODID:-//National opera and ballet - ECPv4.0.7//NONSGML v1.0//EN
CALSCALE:GREGORIAN
METHOD:PUBLISH
X-WR-CALNAME:National opera and ballet
X-ORIGINAL-URL:https://operabalet.mk/en
X-WR-CALDESC:Events for National opera and ballet
BEGIN:VEVENT
DTSTART;TZID="UTC+0":20221201T200000
DTEND;TZID="UTC+0":20221201T210000
DTSTAMP:20260423T113124
CREATED:20221107T120011
LAST-MODIFIED:20221107T120011
UID:1254-1669924800-1669928400@operabalet.mk
SUMMARY:CONCERT IN HONOR OF MAESTRO LJUBOMIR BRANGJOLICA (1.12.2022)
DESCRIPTION:\nCONCERT IN HONOR OF MAESTRO LJUBOMIR BRANGJOLICA AND HIS TIMELESS MUSIC\n 90 YEARS OF BIRTH\n FOYER OF THE NATIONAL OPERA AND BALLET\n01.12.2022\, 20:00\nTHE CONCERT IS IN THE FRAMEWORK OF THE "AUTUMN MUSIC FESTIVITIES" FESTIVAL\nSOLOISTS:\nBlagica Pop Tomova – SOPRANO\nNada Talevska Spasovska – SOPRANO\nDesira Ahmeti Krliu – SOPRANO\nIrena Kavkalevska – MEZZOSOPRAN\nGjrogji Cuckovski – TENOR\nIgor Durlovski – BAS\nBoris Trajanov – BARITONE\nPiano: Elena Siljanovska
URL:https://operabalet.mk/en/event/concert-in-honor-of-maestro-ljubomir-brangjolica-1-12-2022/
LOCATION:Array
CATEGORIES:Concert
ATTACH;FMTTYPE=image/jpeg:https://operabalet.mk/en/wp-content/uploads/sites/2/2022/11/brngjolica.jpg
END:VEVENT
END:VCALENDAR