BEGIN:VCALENDAR
VERSION:2.0
PRODID:-//National opera and ballet - ECPv4.0.7//NONSGML v1.0//EN
CALSCALE:GREGORIAN
METHOD:PUBLISH
X-WR-CALNAME:National opera and ballet
X-ORIGINAL-URL:https://operabalet.mk/en
X-WR-CALDESC:Events for National opera and ballet
BEGIN:VEVENT
DTSTART;TZID="UTC+0":20210622T210000
DTEND;TZID="UTC+0":20210622T220000
DTSTAMP:20260423T124347
CREATED:20210616T111211
LAST-MODIFIED:20210616T111211
UID:1092-1624395600-1624399200@operabalet.mk
SUMMARY:CONCERT OF THE CHOIR OF THE NATIONAL OPERA AND BALLET (22.06.2021 - GTC - GREEN ROOF - 21:00)
DESCRIPTION:\nConcert of the choir of the National Opera and Ballet\n22.06.2021 - GTC - green roof- 21h.\nConductors / Choir Masters:\nJasmina Gjorgeska and Gjurgica Dasikj\nPiano accompanist: Janinka Nevceva\nDirector: Trajko Jordanovski\nRespondents: Ljupcho Polizov\, Dragan Kostadinovikj\, Marko Pavlevski\nProgram:\n1. K.Orf - Carmina Burana -O fortuna\n2. G. Verdi - Opera Nabucco "Gli aredi festive"\n3. G. Verdi - Opera Nabucco "Va pensiero"\n4. G. Verdi - Opera Troubadour \,\, Or co\, dadi ma fra poco\n5. G. Verdi - Opera Troubadour "Vedi le fosche"\n6. G. Verdi - Opera La Traviata "Coro di zingarelle e mattadori"\nPerformed by: Marija Naumovska and Borko Bidzovski\n7. G. Bizet - aria by Carmen from the opera "Carmen" - Habanera -\nPerformed by: Helene Angelovska\n8. G. Bizet - aria  of Escamillo from the opera "Carmen"\nPerformed by: Ernes Ibraimovski\n9. G. Verdi - Opera La Traviata "Libiamo"\nPerformed by: Serafina Fantauzo and Nikola Stojcheski\nThe choir of the National Opera and Ballet performs
URL:https://operabalet.mk/en/event/concert-of-the-choir-of-the-national-opera-and-ballet-22-06-2021-gtc-green-roof-2100/
LOCATION:Array
CATEGORIES:Concert,opera
ATTACH;FMTTYPE=image/jpeg:https://operabalet.mk/en/wp-content/uploads/sites/2/2021/05/hor_koncert.jpg
END:VEVENT
END:VCALENDAR