BEGIN:VCALENDAR
VERSION:2.0
PRODID:-//National opera and ballet - ECPv4.0.7//NONSGML v1.0//EN
CALSCALE:GREGORIAN
METHOD:PUBLISH
X-WR-CALNAME:National opera and ballet
X-ORIGINAL-URL:https://operabalet.mk/en
X-WR-CALDESC:Events for National opera and ballet
BEGIN:VEVENT
DTSTART;TZID="UTC+0":20230708T203000
DTEND;TZID="UTC+0":20230708T213000
DTSTAMP:20260423T100407
CREATED:20230614T064957
LAST-MODIFIED:20230703T125452
UID:1369-1688848200-1688851800@operabalet.mk
SUMMARY:Concert of the choir soloists - National Opera and Ballet (8.7.2023)
DESCRIPTION:\n\n8.7.2023\nConcert of the choir soloists - National Opera and Ballet\n\nEntrance to National Opera and Ballet (under the starry sky) – 8:30 p.m.
URL:https://operabalet.mk/en/event/concert-of-the-choir-soloists-national-opera-and-ballet-8-7-2023/
LOCATION:Array
CATEGORIES:Concert
ATTACH;FMTTYPE=image/gif:https://operabalet.mk/en/wp-content/uploads/sites/2/2016/03/03.gif
END:VEVENT
END:VCALENDAR