BEGIN:VCALENDAR
VERSION:2.0
PRODID:-//National opera and ballet - ECPv4.0.7//NONSGML v1.0//EN
CALSCALE:GREGORIAN
METHOD:PUBLISH
X-WR-CALNAME:National opera and ballet
X-ORIGINAL-URL:https://operabalet.mk/en
X-WR-CALDESC:Events for National opera and ballet
BEGIN:VEVENT
DTSTART;TZID="UTC+0":20210520T200000
DTEND;TZID="UTC+0":20210520T210000
DTSTAMP:20260423T124348
CREATED:20210518T114344
LAST-MODIFIED:20210519T160121
UID:1077-1621540800-1621544400@operabalet.mk
SUMMARY:Concert of the Soloists of the National Opera and Ballet (20.05.2021 - online)
DESCRIPTION:\nNATIONAL OPERA AND BALLET\nOPERA\nConcert of the Soloists of the National Opera and Ballet\n20.05.2021 premiere on the official YouTube channel of the National Opera and Ballet\nSoloists: Sandra Mitrovska - soprano\, Zoran Sotirov - tenor and Marjan Jovanoski - baritone\nPiano accompanists: Andreja Naunov\nDirector: Dejan Prosev\nLight design: Milcho Aleksandrov\nStage manager: Dragan Kostadinovikj\nProgram:\n1. Р. Leoncavallo - Rodolfo aria "Testa adorata" from the opera " La Boheme"\nPerformed by: Zoran Sotirov\n2. G. Verdi - Aria by Amelia \,\, Morro\, ma prima in grazia \,\, from the opera "Un ballo in maschera"\nPerformed by: Sandra Mitrovska\n3. G. Verdi - Aria by Renato \,\, Eri tu .. from the opera "Un ballo in maschera"\nPerformed by: Marjan Jovanoski\n4. G. Puccini - Aria by Dick Johnson "Ch'ella mi creda" from the opera "The Girl from the West"\nPerformed by: Zoran Sotirov\n5. G Puccini - Aria by Mimi \,\, Si\, mi chiamano Mimi \,\, from the opera "La Boheme"\nPerformed by: Sandra Mitrovska\n6. R. Leoncavallo - Aria by Tonio from the opera "Pagliacci"\nPerformed by: Marjan Jovanoski\n7. R. Leoncavallo - Aria on the Canoe "Vesti la gubba" from the opera "Pagliacci"\nPerformed by: Zoran Sotirov\n8. G. Verdi - Duet of Count Luna and Leonora from the opera "Il trovatore"\nPerformed by: Sandra Mitrovska and Marjan Jovanoski\n9. F.Chilea - Aria by Maurizio \,\, L’anima ho stanca \,\, from the opera "Adriana Lecouvreur"\nPerformed by: Zoran Sotirov\n10. G. Bizet - Aria by Escamillo from the opera "Carmen"\nPerformed by: Marjan Jovanoski\n11. F.Chilea - Aria by Federico "L’amento di Federico" from the opera "Arleziana"\nPerformed by: Zoran Sotirov\n12. J. Puccini - Aria by Cho Cho San "Un bel di vedremo" from the opera "Madame Butterfly"\nPerformed by: Sandra Mitrovska
URL:https://operabalet.mk/en/event/concert-of-the-soloists-of-the-national-opera-and-ballet-20-05-2021-online/
LOCATION:Array
CATEGORIES:Concert
ATTACH;FMTTYPE=image/jpeg:https://operabalet.mk/en/wp-content/uploads/sites/2/2021/05/vtor-recital-maj-2021.jpg
END:VEVENT
END:VCALENDAR