BEGIN:VCALENDAR
VERSION:2.0
PRODID:-//National opera and ballet - ECPv4.0.7//NONSGML v1.0//EN
CALSCALE:GREGORIAN
METHOD:PUBLISH
X-WR-CALNAME:National opera and ballet
X-ORIGINAL-URL:https://operabalet.mk/en
X-WR-CALDESC:Events for National opera and ballet
BEGIN:VEVENT
DTSTART;TZID="UTC+0":20211025T200000
DTEND;TZID="UTC+0":20211025T210000
DTSTAMP:20260423T124324
CREATED:20211012T140133
LAST-MODIFIED:20211020T133021
UID:1114-1635192000-1635195600@operabalet.mk
SUMMARY:Concert of the soloists of the National Opera and Ballet (25.10.2021)
DESCRIPTION:\n25.10.2021 / time 20.00\nConcert of the soloists of the National Opera and Ballet\nMarjan Jovanoski - baritone and Vladimir Sazdovski - bass\nGuest: Sandra Mitrovska - soprano\nPiano accompanist: Elena Siljanoska\n******************************************\nThis event will take place according to the protocols provided with the current situation caused by the Covid 19 pandemic\, approved by the Commission for Infectious Diseases.\nEntry is allowed only with proof of vaccination or proof of recovery from Covid 19 during the last 45 days\, starting from the day of recovery.\nIt is necessary to wear protective masks.\nTickets on tel: 078 438 536
URL:https://operabalet.mk/en/event/concert-of-the-soloists-of-the-national-opera-and-ballet-25-10-2021/
LOCATION:Array
CATEGORIES:Concert
ATTACH;FMTTYPE=image/jpeg:https://operabalet.mk/en/wp-content/uploads/sites/2/2021/10/marjan-sazdo1.jpg
END:VEVENT
END:VCALENDAR