BEGIN:VCALENDAR
VERSION:2.0
PRODID:-//National opera and ballet - ECPv4.0.7//NONSGML v1.0//EN
CALSCALE:GREGORIAN
METHOD:PUBLISH
X-WR-CALNAME:National opera and ballet
X-ORIGINAL-URL:https://operabalet.mk/en
X-WR-CALDESC:Events for National opera and ballet
BEGIN:VEVENT
DTSTART;TZID="UTC+0":20160515T120000
DTEND;TZID="UTC+0":20160515T130000
DTSTAMP:20260424T213337
CREATED:20160410T203754
LAST-MODIFIED:20160419T160356
UID:140-1463313600-1463317200@operabalet.mk
SUMMARY:DOCTOR AYBOLIT - Igor Morozov
DESCRIPTION:Ballet for children\nChoreography: Mikhail Krapivin (Russia)\nSet designer: Zhivojin Trajanovic\nCostume designer: Marija Pupuchevska\nRepetitours: Lora Tarchugovska\, Goran Bozhinov\n\nPerforming: Ballet soloists and Corps de Ballet of MOB
URL:https://operabalet.mk/en/event/doctor-aybolit-igor-morozov/
LOCATION:Blvd. Goce Delchev 4\, Skopje\, 1000\, Macedonia
CATEGORIES:ballet
ATTACH;FMTTYPE=image/jpeg:https://operabalet.mk/en/wp-content/uploads/sites/2/2016/03/224_d-r-ofboli_26-01-14.jpg
END:VEVENT
END:VCALENDAR