BEGIN:VCALENDAR
VERSION:2.0
PRODID:-//National opera and ballet - ECPv4.0.7//NONSGML v1.0//EN
CALSCALE:GREGORIAN
METHOD:PUBLISH
X-WR-CALNAME:National opera and ballet
X-ORIGINAL-URL:https://operabalet.mk/en
X-WR-CALDESC:Events for National opera and ballet
BEGIN:VEVENT
DTSTART;TZID="UTC+0":20160511T200000
DTEND;TZID="UTC+0":20160511T230000
DTSTAMP:20260424T174629
CREATED:20160410T203023
LAST-MODIFIED:20160509T164137
UID:135-1462996800-1463007600@operabalet.mk
SUMMARY:EUGENE ONEGIN - Pyotr Ilyich Tchaikovsky
DESCRIPTION:In 19th century Russia\, a young aristocrat rejects the love of an innocent country girl. Finding her years later in Saint Petersburg\, married to a prince\, he realizes that she is his true love.  She still loves him too\, but fate has separated them forever. The gripping Pushkin story of love unfulfilled\, brought to new heights by Tchaikovsky’s fiercely passionate score.\n\nConductor: Sasha Nikolovski-Gjumar\nConductor II: Ivan Eminovic\nDirector: Dejan Projkovski\nSet designer: Valentin Svetozarev\nCostume designer: Marija Pupuchevska\nChoreographер: Olga Pango\nConcert master: Verica Lambevska\nAss. Chorus master: Jasmina Gjorgjeska\nLight designer: Vasko Lisichov\nAss. Director: Trajko Jordanovski\, Ljupka Jakimovska\n\n[video width="3840 " height="2160" mp4="http://mob.mk/wp-content/uploads/2016/04/Eugene-Onegin-Video.mp4" poster="http://mob.mk/wp-content/uploads/2016/05/evgeniiij-slide.jpg" autoplay="true"][/video]\n\nCAST:\nLarina: Marika Popovic\nTatyana: Tamara Kalinkina (Ukraine)\nOlga: Yoana Kadiyska (Bulgaria)\nFilippyevna: Elena Petrushevska\nLensky: Darko Neshovski\nEugene Onegin: Ivan Naumovski\nPrince Gremin: Vladimir Sazdovski\nCompany Commander: Dime Petrov\nZaretsky: Tihomir Jakimovski\nTriquet: Zoran Daskalovski
URL:https://operabalet.mk/en/event/eugene-onegin-pyotr-ilyich-tchaikovsky/
LOCATION:Blvd. Goce Delchev 4\, Skopje\, 1000\, Macedonia
CATEGORIES:opera
ATTACH;FMTTYPE=image/jpeg:https://operabalet.mk/en/wp-content/uploads/sites/2/2016/04/evgeni1j.jpg
END:VEVENT
END:VCALENDAR