BEGIN:VCALENDAR
VERSION:2.0
PRODID:-//National opera and ballet - ECPv4.0.7//NONSGML v1.0//EN
CALSCALE:GREGORIAN
METHOD:PUBLISH
X-WR-CALNAME:National opera and ballet
X-ORIGINAL-URL:https://operabalet.mk/en
X-WR-CALDESC:Events for National opera and ballet
BEGIN:VEVENT
DTSTART;TZID="UTC+0":20230927T200000
DTEND;TZID="UTC+0":20230927T213000
DTSTAMP:20260423T111018
CREATED:20230921T115756
LAST-MODIFIED:20230921T115811
UID:1383-1695844800-1695850200@operabalet.mk
SUMMARY:FOLKLORE-CLASSICAL SYMBIOSIS (27.9.2023)
DESCRIPTION:\nFOLKLORE-CLASSICAL SYMBIOSIS\n27.9.2023\, 8:00 p.m\nHall of the National Opera and Ballet\nMusical-stage spectacle of NU NATIONAL OPERA AND BALLET AND NU DANCE\nConductor: Bisera Chadlovska\nConcert - master: Verica Lambevska\nChoir - master: Gjurgjica Dashikj\nThe orchestrations for Osogovka\, Vodarki\, Maleshevka\, Zhetvarka and Pirin spring flowers: Darko Ilievski\nStage managers: Ljupco Polizov\, Dragan Kostadinovikj\, Marko Pavlevski\nThe orchestra\, choir and dance ensemble of Tanec with the orchestra and choir of the National Opera and Ballet
URL:https://operabalet.mk/en/event/folklore-classical-symbiosis-27-9-2023/
LOCATION:Array
CATEGORIES:Concert
ATTACH;FMTTYPE=image/jpeg:https://operabalet.mk/en/wp-content/uploads/sites/2/2023/09/simbioza_web.jpg
END:VEVENT
END:VCALENDAR