BEGIN:VCALENDAR
VERSION:2.0
PRODID:-//National opera and ballet - ECPv4.0.7//NONSGML v1.0//EN
CALSCALE:GREGORIAN
METHOD:PUBLISH
X-WR-CALNAME:National opera and ballet
X-ORIGINAL-URL:https://operabalet.mk/en
X-WR-CALDESC:Events for National opera and ballet
BEGIN:VEVENT
DTSTART;TZID="UTC+0":20191214T200000
DTEND;TZID="UTC+0":20191214T220000
DTSTAMP:20260424T162912
CREATED:20191203T152219
LAST-MODIFIED:20191205T131940
UID:933-1576353600-1576360800@operabalet.mk
SUMMARY:GALA BALET CONCERT - 70 YEARS Ballet anniversary
DESCRIPTION:\nGala ballet concert dedicated to the 70th anniversary of the Macedonian ballet. From 19:00 the visitors will have the opportunity to view the exhibition of photographs and costumes from the beginnings of the Macedonian ballet.\nPERFORMING:\nAleksandra Mijalkova and Vasil Chichiashvili (Georgia)\nMarija Kichevska Shokarovska and Balázs Lőcsei (Hungary)\nNatasha Josifovska and Igor Velanoski\nSasha Evtimova and Andrew Cook (UK)\nIvana Kocevska\, Miroslav Mitrashinovikj and Ervis Kocheku (Albania)\nMimi Pop Aleksova Atanasovska and Boban Kovachevski\nJolanda Korea and Vittorio Galloro (Germany)\nNatalija Kosovac and Guilerme Gameiro Alves (Croatia)\nTjasha Kmetec and Petar Dorchevski (Slovenia)\nTatjana Galjakova and Stanislav Olshanskij (Ukraine)\nSoloists and ballet ensemble of the National Opera and Ballet\n
URL:https://operabalet.mk/en/event/gala-balet-concert-70-years-anniversary/
LOCATION:Blvd. Goce Delchev 4\, Skopje\, 1000\, Macedonia
CATEGORIES:ballet,Concert
ATTACH;FMTTYPE=image/jpeg:https://operabalet.mk/en/wp-content/uploads/sites/2/2019/12/gala70.jpg
END:VEVENT
END:VCALENDAR