BEGIN:VCALENDAR
VERSION:2.0
PRODID:-//National opera and ballet - ECPv4.0.7//NONSGML v1.0//EN
CALSCALE:GREGORIAN
METHOD:PUBLISH
X-WR-CALNAME:National opera and ballet
X-ORIGINAL-URL:https://operabalet.mk/en
X-WR-CALDESC:Events for National opera and ballet
BEGIN:VEVENT
DTSTART;TZID="UTC+0":20240626T200000
DTEND;TZID="UTC+0":20240626T220000
DTSTAMP:20260423T180638
CREATED:20240605T150831
LAST-MODIFIED:20240605T150831
UID:1500-1719432000-1719439200@operabalet.mk
SUMMARY:GALA BALLET CONCERT -  Skopje summer festival (26.6.2024)
DESCRIPTION:\nGALA BALLET CONCERT\n26.6.2024 – 8 PM\n(Skopje summer festival)\nConductor: Bisera Chadlovska\nDirectors: Olga Pango\, Dejan Proshev\nConcertmaster: Kliment Todoroski\nRépétiteurs: Goran Bozhinov\, Aleksandra Mijalkova\, Sasha Evtimova\, Dafina Daniloska Kochevska\, Vasil Chichiashvili\, Natasha Josifovska\nStage managers: Dubravka Shopova\, Tijana Tarchugovska Georgieva\nAccompanists: Marjan Vasilevski\, Stefan Pehchevski\n"Swan Lake" Overture to act II\, P.I. Tchaikovsky (before the curtain)\nFirst act\n1. "Swan Lake" – music by P.I. Tchaikovsky\nEntre and adagio\nOdette: Mimi Pop Aleksova Atanasovska\nPrince Siegfried: Francisco Gimenez Ruiz (Spain)\nEnsemble: everyone\n2. "Sleeping Beauty" – music by P.I. Tchaikovsky\nBlue Bird: Veselin Trajkovski\nFlorine: Melanija Gocevska\n3. "Sleeping Beauty" – music by P.I. Tchaikovsky\nRose adagio\nPrincess Aurora: Ivana Kocevska\nFour suitors: Igor Velanoski\, Miroslav Mitrashinovikj\, Alfred Jago (England)\, Nicolas Hourseau\n4. "Don Quixote" – music by L. Minkus\nPas de deux\nKitri - Hristina Nakjevska\nBasilio: Balazs Locsei (Hungary)\nAntre\nSix girls: Mila Ninovska\, Medina Jusufovikj\, Teodora Stavrevska\, Melanija Gocevska\, Ivana Dimkoska\, Andrijana Bogatinoska\, Violeta Karajanova\, Isidora Kitanovikj Martina Dimovska\, Dragana Ilievska\, Martina Cvetanoska\, Eva Perkovska\nVariations: Ilijana Danilov\, Ivana Dimkoska\, Violeta Karajanova\, Amanda Rocha (Brazil)\, Martina Dimovska\, Martina Cvetanoska\n5. “Flower festival” – music by E. Helsted\nPerformed by: Angela Velevska and Andrew Cook (England)\n6. “Sabre Dance” – music by A. Khachaturian\nSoloists: Ilijana Danilov and Miroslav Mitrashinovikj\nEnsemble: Igor Velanoski\, Jan Kisilev\, Kristian Jangos\, Martin Sazdovski\, Agim Baftii\, Nicolas Hourseau\, Alfred Jago (England)\, Veselin Trajkovski\, Marin Anchevski\, Hristian Sarafov\n7. "Spartak" – music by A. Khachaturian\nPerformed by: Marija Kichevska Shokarovska and Balazs Locsei (Hungary)\nSecond act\n1. “Carmen” – music by G. Bizet and R. Shchedrin\nDuet: Mimi Pop Aleksova Atanasovska and Francisco Gimenez Ruiz (Spain)\n2. "Samson and Delilah" – music by C. Saint-Saëns\nDuet: Sasha Evtimova and Igor Velanoski\n3. "The Nutcracker" – music by P.I. Tchaikovsky\nWaltz of the Flowers\nSoloists: Martina Dimovska\, Amanda Rocha (Brazil)\, Miroslav Mitrashinovikj\, Alfred Jago (England)\nEnsemble\nWomen: Mila Ninovska\, Angela Velevska\, Medina Jusufovikj\, Angela Bogatinova\, Ivana Dimkoska\, Matea Karevski\, Violeta Karajanova\, Teodora Stavrevska\, Isidora Kitanovikj\, Dragana Ilievska\, Martina Cvetanoska\, Anja Filipova\, Eva Perkovska\nMen: Andrew Cook (England)\, Kristian Jangos\, Martin Sazdovski\, Agim Baftii\, Nicolas Hourseau\, Veselin Trajkovski\, Marin Anchevski\, Hristijan Sarafov\n4. "The Nutcracker" – music by P.I. Tchaikovsky\nPas se deux\nMasha: Natasha Trendafilova Gitsev\nPrince: Balazs Locsei (Hungary)\n5. "Raymonda" – music by A. Glazunov\nGrand pas classique\nRaymonda: Marija Kichevska Shokarovska\nJean de Brien: Francisco Gimenez Ruiz (Spain)\nEnsemble\nWomen: Hristina Nakjevska\, Natasha Trendafilova Gicev\, Melanija Gocevska\, Violeta Karajanova\, Dragana Ilievska\, Martina Cvetanovska\, Medina Jusufovikj\, Ilijana Danilov\, Ivana Dimkoska\, Amanda Rocha (Brazil)\, Matea Karevski\, Martina Dimovska\, Eva Perkovska\, Anja Filipova\, Andriana Bogatinoska \, Angela Velevska\nMen: Igor Velanoski\, Jan Kisilev\, Miroslav Mitrashinovikj\, Kristian Jangos\, Agim Baftii\, Nicolas Hourseau\, Alfred Jago (England)\, Andrew Cook (England)\, Veselin Trajkovski\, Hristian Sarafov\, \, Marin Anchevski\n\n
URL:https://operabalet.mk/en/event/gala-ballet-concert-skopje-summer-festival-26-6-2024/
LOCATION:Array
CATEGORIES:ballet
ATTACH;FMTTYPE=image/jpeg:https://operabalet.mk/en/wp-content/uploads/sites/2/2021/01/balet-ansambl.jpg
END:VEVENT
END:VCALENDAR