BEGIN:VCALENDAR
VERSION:2.0
PRODID:-//National opera and ballet - ECPv4.0.7//NONSGML v1.0//EN
CALSCALE:GREGORIAN
METHOD:PUBLISH
X-WR-CALNAME:National opera and ballet
X-ORIGINAL-URL:https://operabalet.mk/en
X-WR-CALDESC:Events for National opera and ballet
BEGIN:VEVENT
DTSTART;TZID="UTC+0":20160610T200000
DTEND;TZID="UTC+0":20160610T213000
DTSTAMP:20260424T210932
CREATED:20160530T230257
LAST-MODIFIED:20160530T230257
UID:218-1465588800-1465594200@operabalet.mk
SUMMARY:Gala concert “Kosta Trpkov”
DESCRIPTION:Gala concert with the students from the state music universities in the Republic of Macedonia\n\nConductor: Ivan Eminovic\nAccompanied by the Orchestra of MOB\n\n***The concert will be held at the lobby of MOB\, and it's free of charge***
URL:https://operabalet.mk/en/event/gala-concert-kosta-trpkov/
LOCATION:Blvd. Goce Delchev 4\, Skopje\, 1000\, Macedonia
CATEGORIES:Concert
ATTACH;FMTTYPE=image/gif:https://operabalet.mk/en/wp-content/uploads/sites/2/2016/03/01.gif
END:VEVENT
END:VCALENDAR