BEGIN:VCALENDAR
VERSION:2.0
PRODID:-//National opera and ballet - ECPv4.0.7//NONSGML v1.0//EN
CALSCALE:GREGORIAN
METHOD:PUBLISH
X-WR-CALNAME:National opera and ballet
X-ORIGINAL-URL:https://operabalet.mk/en
X-WR-CALDESC:Events for National opera and ballet
BEGIN:VEVENT
DTSTART;TZID="UTC+0":20160528T120000
DTEND;TZID="UTC+0":20160528T130000
DTSTAMP:20260425T035213
CREATED:20160419T125528
LAST-MODIFIED:20160522T154949
UID:171-1464436800-1464440400@operabalet.mk
SUMMARY:GALA CONCERT OF CHILDREN’S CHOIR “FALSETTO” - MACEDONIAN OPERA AND BALLET
DESCRIPTION:
URL:https://operabalet.mk/en/event/gala-concert-of-childrens-choir-falsetto-macedonian-opera-and-ballet/
LOCATION:Blvd. Goce Delchev 4\, Skopje\, 1000\, Macedonia
CATEGORIES:Concert
ATTACH;FMTTYPE=image/jpeg:https://operabalet.mk/en/wp-content/uploads/sites/2/2016/04/falseto-logo-01.jpg
END:VEVENT
END:VCALENDAR