BEGIN:VCALENDAR
VERSION:2.0
PRODID:-//National opera and ballet - ECPv4.0.7//NONSGML v1.0//EN
CALSCALE:GREGORIAN
METHOD:PUBLISH
X-WR-CALNAME:National opera and ballet
X-ORIGINAL-URL:https://operabalet.mk/en
X-WR-CALDESC:Events for National opera and ballet
BEGIN:VEVENT
DTSTART;TZID="UTC+0":20220218T200000
DTEND;TZID="UTC+0":20220218T213000
DTSTAMP:20260423T110835
CREATED:20220209T131152
LAST-MODIFIED:20220215T152358
UID:1158-1645214400-1645219800@operabalet.mk
SUMMARY:"ARIGATO" - Gala Opera Concert (18.2.2022)
DESCRIPTION:\n"ARIGATO" - Gala Concert\n(～ありがとう～特別講演オペラ・コンサート)\n 18th February 2022\n Big stage of National opera and ballet\nConductors: Bisera Chadlovska\, Ivan Eminovikj\nDirector: Dejan Proshev\nLight design: Milcho Aleksandrov\nConcert master: Kliment Todorovski\nChoir master: Jasmina Gjorgjeska\nPiano accompanists: Janinka Nevcheva\, Andrej Naunov\nStage managers: Ljupcho Polizov\, Dragan Kostadinovikj\, Marko Pavlevski\nPerformers:\nSandra Mitrovska - soprano\nNade Talevska - soprano\nKaterina Stojanovska – soprano\nElena Golomeova - soprano\nSonja Pendovska Madevska – mezzo- soprano\nBlagoj Nacoski - tenor\nZoran Sotirov – tenor\nNikola Stojchevski - tenor\nRiste Velkov - baritone\nIgor Durlovski - bass\nChoir and orchestra of the National opera and ballet\n\nPROGRAMME:\n1. Carl Orff – Carmina Burana: “O fortuna” - Choir of the National Opera and Ballet\n2. W.A.Mozart - Sarastro's Aria from the opera “ The Magic flute” - Igor Durlovski\n3. Charles Gounod -Margarita's Aria from the opera “Faust” - Elena Golomeova\n4. G.Puccini - Mimi's Aria form the opera “La Boheme” - Katerina Stojanovska\n5. G.Puccini - Cavaradossi's Aria from the opera “Tosca”- Blagoj Nacoski\n6. G.Verdi - Macbeth’s recitativе and Aria from the opera “Macbeth” - Riste Velkov\n7. R.Schedrin - Part from suite “Carmen” – Orchestra of the National Opera and Ballet\n8. L.Delibes – Lakme’s Aria from the opera “Lakme” - Nade Talevska\n9. R\,Strauss – Aria for Morosus from the opera “A Silent woman” - Igor Durlovski\n10. R.Leoncavallo - Canio’s Aria from the opera “Pagliacci” - Zoran Sotirov\n11. G.Donizetti – Sextet from the opera “Lucia di Lammermoor” - Nade Talevska\, Blagoj Nacoski\, Riste Velkov\, Igor Durlovski\, Sonja Pendovska Madevska\, Nikola Stojchevski and the choir\n12. G.Verdi - Duet\, Leonora and Count di Luna from the opera “Il Trovatore” - Sandra Mitrovska and Riste Velkov\n13. F.Lehar – Duet of Hanna and Count Danilo from the operetta “The Merry Widow” - Katerina Stojanovska and Blagoj Nacoski\n14. G.Verdi- Elena's bolero form the opera “Sicilian vespers” - NadeTalevska\n15. F.Lehar- Hanna Glawari Aria from the opera ”Merry Widow” - Sandra Mitrovska and the choir\n16. Teiichi Okani - “Hurusato” - arr. Allesandro D'Agostini - Blagoj Nacoski with the choir\nNote: Due to COVID- 19 situation the program may undergo changes
URL:https://operabalet.mk/en/event/gala-opera-concert-18-2-2022/
LOCATION:Array
CATEGORIES:Concert
ATTACH;FMTTYPE=image/jpeg:https://operabalet.mk/en/wp-content/uploads/sites/2/2021/01/orkestar-efekt.jpg
END:VEVENT
END:VCALENDAR