BEGIN:VCALENDAR
VERSION:2.0
PRODID:-//National opera and ballet - ECPv4.0.7//NONSGML v1.0//EN
CALSCALE:GREGORIAN
METHOD:PUBLISH
X-WR-CALNAME:National opera and ballet
X-ORIGINAL-URL:https://operabalet.mk/en
X-WR-CALDESC:Events for National opera and ballet
BEGIN:VEVENT
DTSTART;TZID="UTC+0":20230308T200000
DTEND;TZID="UTC+0":20230308T213000
DTSTAMP:20260423T113245
CREATED:20221107T115120
LAST-MODIFIED:20230307T102636
UID:1252-1678305600-1678311000@operabalet.mk
SUMMARY:GALA OPERA CONCERT OF THE SOPRANO ALEKSANDRINA PENDACHANSKA (8.3.2023)
DESCRIPTION:\nGALA OPERA CONCERT OF THE SOPRANO\n ALEXANDRINA PENDACANSKA\n8.3.2023\nConductor: Bisera Čadlovska\nConcert master: Kliment Todoroski\nSoloists:\nRalica Bogadnova (Bulgaria) - soprano\nMarjan Jovanoski – baritone\nThe orchestra of the National Opera and Ballet
URL:https://operabalet.mk/en/event/gala-opera-concert-of-the-soprano-aleksandrina-pendachanska-26-11-2022/
LOCATION:Array
CATEGORIES:Concert
ATTACH;FMTTYPE=image/gif:https://operabalet.mk/en/wp-content/uploads/sites/2/2022/11/pendanchanska.gif
END:VEVENT
END:VCALENDAR