BEGIN:VCALENDAR
VERSION:2.0
PRODID:-//National opera and ballet - ECPv4.0.7//NONSGML v1.0//EN
CALSCALE:GREGORIAN
METHOD:PUBLISH
X-WR-CALNAME:National opera and ballet
X-ORIGINAL-URL:https://operabalet.mk/en
X-WR-CALDESC:Events for National opera and ballet
BEGIN:VEVENT
DTSTART;TZID="UTC+0":20210526T080000
DTEND;TZID="UTC+0":20210526T212000
DTSTAMP:20260423T122720
CREATED:20210514T133300
LAST-MODIFIED:20210525T143652
UID:1073-1622016000-1622064000@operabalet.mk
SUMMARY:"Games of Life" - premiere (26.5.2021)
DESCRIPTION:\n "Games of Life" - premiere\n26.05.2021\, 8 pm\, National Opera and Ballet\nThe main theme-idea of ​​the project is Love\, shown through the works of\nHandel\, Purcell\, Rameau and Bach\nIdea: Tatiana Petrusevska - first oboe at the National Opera and Ballet\nConductor: Ivan Eminovikj\nDirector: Ljupka Jakimovska\nConcert master: Kliment Todoroski\nChoreographer: Sasha Evtimova\nSet design: Marija Veteroska\nCostume design: Angela Bogevska\nLight design: Milcho Aleksandrov\nVisual multimedia: Emil Pachkovski and Darko Dautovikj\nStage managers: Ljupcho Polizov\, Dragan Kostadinovikj\, Marko Pavlevski\nSoloists:\nBiljana Josifov - soprano\nDragan Ampov - baritone\nOrchestra:\nKliment Todoroski\, Jane Bakevski - violins\nMarija Georgieva - viola\nKiril Josifov - cello\nMitko Ivanov - double bass\nMarija Jakimovska - flute / piccolo\nTatiana Petrusevska\, Gjorgji Petrushevski - oboe\nMarjan Milosevski - bassoon\nTeodor Teodosievski - percussions\nBallet:\nAndrew Cook (England)\nBalaz Lashei (Hungary)\nMartina Dimovska\nProgram:\n1.Overter (G.Fr.Handel “Salomon” The arrival of the Queen of Sheba III act)\n2.J.S.Bach Kantate Nr.202 “Weichet nur\, betrübte Schatten”\n3.H.Purcel "The Fairy Queen" - Orchestral Suite\n4.J.Ph.Rameau “Les Indes Galantes” - Orchestral Suite\n**********************************************\n*The event will be held according to the protocols provided by the current situation caused by the Covid-19 pandemic \, approved by the Commission on Infectious Diseases. It is mandatory to wear a protective mask. Please respect the protection measures.\n*The online ticket schedule is in pairs of two seats next to each other\, for example seats 5 and 6 are for sale\, a gap of two free seats\, then seats 9 and 10 are for sale. If you need a single ticket or a combination of 3  connected seats  please contact us at the phone number\n078 426 536.
URL:https://operabalet.mk/en/event/games-of-life-premiere-26-5-2021/
LOCATION:Array
CATEGORIES:Concert,opera
ATTACH;FMTTYPE=image/jpeg:https://operabalet.mk/en/wp-content/uploads/sites/2/2021/05/igri-na-zivotot_web.jpg
END:VEVENT
END:VCALENDAR