BEGIN:VCALENDAR
VERSION:2.0
PRODID:-//National opera and ballet - ECPv4.0.7//NONSGML v1.0//EN
CALSCALE:GREGORIAN
METHOD:PUBLISH
X-WR-CALNAME:National opera and ballet
X-ORIGINAL-URL:https://operabalet.mk/en
X-WR-CALDESC:Events for National opera and ballet
BEGIN:VEVENT
DTSTART;TZID="UTC+0":20250919T200000
DTEND;TZID="UTC+0":20250919T210000
DTSTAMP:20260423T095915
CREATED:20250912T115521
LAST-MODIFIED:20250918T081020
UID:1657-1758312000-1758315600@operabalet.mk
SUMMARY:“GARDEN OF BEGINNINGS” - BALLET PREMIERE (19.9.2025)
DESCRIPTION:\nBALLET PREMIERE\n“GARDEN OF BEGINNINGS”\n19.9.2025\, 8:00 PM\, GRAND STAGE\nMUSIC: Stojan Stojkov\nCONDUCTOR: Ivan Eminovikj\nCHOREOGRAPHY: Can Arslan (Turkey)\nLIBRETTO: Eftim Kletnikov\nCHOREOGRAPHER’S ASSISTANTS: Laura Lopez Muñoz (Spain) and Saša Evtimova\nCONCEPT AND REALIZATION OF SCENOGRAPHY: Can Arslan (Turkey)\, Zoran Toshevski and Kiro Pavlov\nCOSTUME DESIGN CONCEPT: Can Arslan (Turkey)\, Laura Lopez Muñoz (Spain) and Sasha Evtimova\nCONCERTMASTER: Verica Lambevska\nMEZZO-SOPRANO: Marika Popovikj\nLIGHTING DESIGN: Milcho Aleksandrov\nACCESSORIES: ZLATICA POPOVSKA\, TIJANA DIMESKA AND ERMINA CHULJEVIKJ\nSTAGE MANAGERS: TIJANA TARCHUGOVSKA GEORGIEVA\, DUBRAVKA SHOPOVA\nPIANO ACCOMPANISTS: MARJAN VASILEVSKI\, STEFAN PEHCHEVSKI\nPERFORMERS:\nReflections of Eva: Marija Kichevska Shokarovska\nLilith: Eva Perkovska\nSamael: Francisco Jiménez Ruiz (Spain)\nEva: Simona Kolishtkoska\nAdam: Andrew Cook (England)\nThree Women of Fate: Hristina Nakjevska Mitrashinovikj\, Ilijana Danilov\, Violeta Karajanova\nAngels: Hristina Nakjevska Mitrashinovikj\, Simona Kolishtkoska\, Ilijana Danilov\, Violeta Karajanova\nBeings of Paradise / People: Sasha Evtimova\, Natasha Trendafilova Gicev\, Angela Bogatinovska\, Medina Jusufovikj\, Matea Karevski\, Martina Dimovska\, Mila Boshkov\, Jovana Lazova\, Balaz Loscei (Hungary)\, Miroslav Mitrashinovikj\, Veselin Trajkovski\nORCHESTRA OF THE NATIONAL OPERA AND BALLET\n
URL:https://operabalet.mk/en/event/garden-of-beginnings-ballet-premiere-19-9-2025/
LOCATION:Array
CATEGORIES:ballet
ATTACH;FMTTYPE=image/jpeg:https://operabalet.mk/en/wp-content/uploads/sites/2/2025/09/garden_beginings.jpg
END:VEVENT
END:VCALENDAR