BEGIN:VCALENDAR
VERSION:2.0
PRODID:-//National opera and ballet - ECPv4.0.7//NONSGML v1.0//EN
CALSCALE:GREGORIAN
METHOD:PUBLISH
X-WR-CALNAME:National opera and ballet
X-ORIGINAL-URL:https://operabalet.mk/en
X-WR-CALDESC:Events for National opera and ballet
BEGIN:VEVENT
DTSTART;TZID="UTC+0":20260227T193000
DTEND;TZID="UTC+0":20260227T220000
DTSTAMP:20260424T011023
CREATED:20260127T133254
LAST-MODIFIED:20260127T162952
UID:1718-1772220600-1772229600@operabalet.mk
SUMMARY:GISELLE - Adolphe Adam (27.2.2026)
DESCRIPTION:\n Adolphe Adam\n GISELLE\n27.2.2026\n19.30\nConductor: Eduard Ambartsumyan (Armenia)\nChoreographer: Jean Coralie\, Jules Perot\, Marius Petipa\, Leonid Lavrovski\nAdaptation: Irena Pasarikj (Croatia)\nScenographer: Aleksandar Noshpal and Mihajlo Stojanovski\nCostume designer: Alexander Noshpal\nAssistant costume designer: Angela Bogeska\nConcert Master: Kliment Todoroski\nLight design: Milcho Aleksandrov\nRepetitours: Aleksndra Mijalkova\, Vasil Chichiashvili\, Sasha Evtimova\, Marija Josifovska Ristovska\, Vladimir Borisov (Ukraine)\, Dafina Daniloska Kochevska\, Biljana Basmadzhieva Kovachevski\,\nStage managers: Dubravka Shopova\, Tijana Tarchugovska Georgieva\nAccompanists: Marjan Vasilevski\, Stefan Pehchevski\nPerforming:\nGiselle: Marija Kichevska Shokarovska\nAlbert: Balaz Loscei\nThe ballet ensemble and the orchestra of the National Opera and Ballet\n \nSynopsis\nRomantic/fantastic ballet in two acts performed on music by Adolphe Adam. Ever since his world premiere in Paris\, France\, in 1841 it is one of the few ballets with perpetual tradition of performance.\nIn the First (the romantic) Act\, Giselle a peasant girl meets Count Albrecht who came to hunt in the vicinity of her village. She falls in love so deep without knowing his noble background. Hilarion\, the gamekeeper who also loves Giselle\, learns who Albrecht is. So\, when Albrecht and his entourage\, Albrecht’s fiancée Bathilde with him\, arrive to the village Hilarion unveils the truth before the people. Giselle can not stand the lie and dies of pain.\nThe Second Act (the fantastic one): the Wilis dance. They\, in fact\, are girls who died before their wedding. During the night they get out of their graves and dances. Every person seeing their dance must die. That night it is Hilarion that enters the forest first\, but soon Albrecht comes\, too. They express their love for Giselle. The Wilis surround Hilarion and kill him. Albrecht is saved by the Giselle’s love for him. She keeps him awake all night long\, dancing around him till dawn. The sun rises and the Wilis disappear.
URL:https://operabalet.mk/en/event/giselle-adolphe-adam-27-2-2026/
LOCATION:Array
CATEGORIES:ballet
ATTACH;FMTTYPE=image/png:https://operabalet.mk/en/wp-content/uploads/sites/2/2021/10/Zizel-Web-sajt_eng_alb.png
END:VEVENT
END:VCALENDAR