BEGIN:VCALENDAR
VERSION:2.0
PRODID:-//National opera and ballet - ECPv4.0.7//NONSGML v1.0//EN
CALSCALE:GREGORIAN
METHOD:PUBLISH
X-WR-CALNAME:National opera and ballet
X-ORIGINAL-URL:https://operabalet.mk/en
X-WR-CALDESC:Events for National opera and ballet
BEGIN:VEVENT
DTSTART;TZID="UTC+0":20211204T200000
DTEND;TZID="UTC+0":20211204T223000
DTSTAMP:20260423T134353
CREATED:20211123T103657
LAST-MODIFIED:20211123T103737
UID:1132-1638648000-1638657000@operabalet.mk
SUMMARY:GISELLE - Adolphe Adam ( 4.12.2021)
DESCRIPTION:\n Adolphe Adam\n GISELLE\n4.12.2021\n Start: 20.00 h.\nConductor: Ivan Eminovikj\nChoreographer: Jean Coralie\, Jules Perot\, Marius Petipa\, Leonid Lavrovski\nAdaptation: Irena Pasarikj (Croatia)\nScenographer: Aleksandar Noshpal and Mihajlo Stojanovski\nCostume designer: Alexander Noshpal\nAssistant costume designer: Angela Bogeska\nConcert Master: Kliment Todoroski\nLight design: Milcho Aleksandrov\nRepetitours: Goran Bozhinov\, Aleksandra Mijalkova\, Lora Tarchugovska\, Biljana Pasharikovska\nPhoto and graphic design: Emil Petrov\nPerforming:\nGiselle: Mimi Pop Aleksova Atanasovska\nAlbert: Boban Kovachevski\nHilarion: Igor Velanoski\nMirta: Ivana Kocevska\nPa de de: Hristina Nakjevska\, Andrew Cook (England)\nMother:\nBatilda:\nCount:\nEscort of the Count:\nThe ballet ensemble and the orchestra of the National Opera and Ballet
URL:https://operabalet.mk/en/event/giselle-adolphe-adam-4-12-2021/
LOCATION:Array
CATEGORIES:ballet
ATTACH;FMTTYPE=image/png:https://operabalet.mk/en/wp-content/uploads/sites/2/2021/10/Zizel-Web-sajt_eng_alb.png
END:VEVENT
END:VCALENDAR