BEGIN:VCALENDAR
VERSION:2.0
PRODID:-//National opera and ballet - ECPv4.0.7//NONSGML v1.0//EN
CALSCALE:GREGORIAN
METHOD:PUBLISH
X-WR-CALNAME:National opera and ballet
X-ORIGINAL-URL:https://operabalet.mk/en
X-WR-CALDESC:Events for National opera and ballet
BEGIN:VEVENT
DTSTART;TZID="UTC+0":20250219T200000
DTEND;TZID="UTC+0":20250219T220000
DTSTAMP:20260423T134413
CREATED:20250131T103640
LAST-MODIFIED:20250217T122523
UID:1574-1739995200-1740002400@operabalet.mk
SUMMARY:LA ESMERALDA - CESARE PUGNI (19.2.2025)
DESCRIPTION:\nConductor: Conductor: Eduard Ambartsumyan (Armenia)\nChoreography: Mikhail Krapivin (Russia)\nSet Design: Zhivojin Trajanovikj\nConcert Master: Kliment Todoroski\nCostume design: Ljupka Ristovska\nRepetitors: Vlodomir Borisov (Ukraine)\, Marija Josifovska Ristovska\, Kire Pavlov\, Sasha Evtimova\, Dafina Daniloska Kochevska\nLights design: Milcho Aleksandrov\nAccompanists: Marjan Vasilevski\, Stefan Pehchevski\nStage managers: Dubravka Shopova\, Tijana Tarchugovska Georgieva\nPERFORMING:\nEsmeralda: Marija Kichevska Shokarovska\nFab: Valeri Lubenko (Ukraine)\, Francisco Jimenez Ruiz (Spain)\nFleur de Lis: Simona Kolishtrkoska\nGudula:\nClaude Frollo:\nQuasimodo:\nKings: I\nPerforming ballet soloists\, ballet ensemble and the orchestra of the National Opera & Ballet\n \n\nDuration: 1 hour and 52 minutes (without intermission)\nSynopsis\n(according to Victor Hugo's Novel "Notre Dame de Paris")\nAct I\nThe tired mother Gudule falls asleep and the Gypsies steal her little daughter. On the square in Paris\,the hunchbackQuasimodo is chosen as the father of the shoots\, for their holiday. Gypsies gather on the square and Esmeralda begins her provocative dance. Claude Frollo\, the archdiocese of the church\, watches her with passion. Esmeralda\, raising money\, frantically stands in front of an old woman. That's Gudule. Claude Frollo orders Quasimodo to kidnap Esmeralda. At her screams Captain Phoebus comes and saves her\, he releases Quasimodo\, and Esmeralda glances into Phoebus.\n\nPhoebuses wedding with Claire de Liss. Phoebus sees Esmeralda with the  gypsies and invites them into the castle. Esmeralda is happy and excited\, she starts her dance\, and Phoebus joins her.\nAct II\nTavern at night. Gypsies play. Phoebus comes and there is Quasimodo. Phoebus and Esmeralda go behind the door\, and at the same time comes Claude Frollo. While hugging Esmeralda\, Phoebus is stabbed with a knife. The killer hides and Quasimodo raises the knife and realizes that the killer is Claude Frollo. Esmeralda is charged with murder. Claude Frollo offers her a rescue in return for her love. Esmeralda’s punishment is being prepared on the square. Gudule recognizes her daughter and accuses Gypsies of stealing. She dies. Quasimodo takes Esmeralda and brings her to the church\, but Claude Frolow returns her to the executioner. Quasimodo in rage pushes Claude Frollo out of the church tower. \n\n \n\n
URL:https://operabalet.mk/en/event/la-esmeralda-cesare-pugni-19-2-2025/
LOCATION:Array
CATEGORIES:ballet
ATTACH;FMTTYPE=image/jpeg:https://operabalet.mk/en/wp-content/uploads/sites/2/2020/01/esmeralda.jpg
END:VEVENT
END:VCALENDAR