BEGIN:VCALENDAR
VERSION:2.0
PRODID:-//National opera and ballet - ECPv4.0.7//NONSGML v1.0//EN
CALSCALE:GREGORIAN
METHOD:PUBLISH
X-WR-CALNAME:National opera and ballet
X-ORIGINAL-URL:https://operabalet.mk/en
X-WR-CALDESC:Events for National opera and ballet
BEGIN:VEVENT
DTSTART;TZID="UTC+0":20200204T200000
DTEND;TZID="UTC+0":20200204T224500
DTSTAMP:20260424T031712
CREATED:20200127T150256
LAST-MODIFIED:20200127T150537
UID:966-1580846400-1580856300@operabalet.mk
SUMMARY:La Esmeralda - Cesare Pugni (4.2.2020)
DESCRIPTION:Conductor: Bisera Chadlovska\nChoreography: Mikhail Krapivin (Russia)\nSet Design: Zhivojin Trajanovikj\nCostume design: Ljupka Ristovska\nConcert Master: Verica Lambevska\nRepetitors: Goran Bozhinov\, Vasil Chichiashvili (Georgia)\,Aleksandra Mijalkova\, Biljana Pasharikovska\, Lora Tarchugovska\, Sasha Evtimova\, Dafina Danilovska Kochevska\nLight design: Milcho Aleksandrov\n\nCAST:\nEsmeralda: Mimi Pop Aleksova Atanasovska\nPhoebus: Boban Kovachevski\nFleur de Lys: Hristina Nakjevska\nQuasimodo: Andrew Cook (UK)\nClaude Frollo: Miroslav Mitrashinovikj\nGudule: Marija Josifovska Ristovska\nGypsy: Sasha Evtimova\nKings: Igor Velanoski\, Balázs Lőcse (Hungary)i\, Ervis Koceku (Albany)\nPerforming ballet soloists\, ballet ensemble and the orchestra of the National Opera & Ballet\nSynopsis\n(according to Victor Hugo's Novel "Notre Dame de Paris")\nAct I\nThe tired mother Gudule falls asleep and the Gypsies steal her little daughter. On the square in Paris\,the hunchbackQuasimodo is chosen as the father of the shoots\, for their holiday. Gypsies gather on the square and Esmeralda begins her provocative dance. Claude Frollo\, the archdiocese of the church\, watches her with passion. Esmeralda\, raising money\, frantically stands in front of an old woman. That's Gudule. Claude Frollo orders Quasimodo to kidnap Esmeralda. At her screams Captain Phoebus comes and saves her\, he releases Quasimodo\, and Esmeralda glances into Phoebus.\n\nPhoebuses wedding with Claire de Liss. Phoebus sees Esmeralda with the  gypsies and invites them into the castle. Esmeralda is happy and excited\, she starts her dance\, and Phoebus joins her.\nAct II\nTavern at night. Gypsies play. Phoebus comes and there is Quasimodo. Phoebus and Esmeralda go behind the door\, and at the same time comes Claude Frollo. While hugging Esmeralda\, Phoebus is stabbed with a knife. The killer hides and Quasimodo raises the knife and realizes that the killer is Claude Frollo. Esmeralda is charged with murder. Claude Frollo offers her a rescue in return for her love. Esmeralda’s punishment is being prepared on the square. Gudule recognizes her daughter and accuses Gypsies of stealing. She dies. Quasimodo takes Esmeralda and brings her to the church\, but Claude Frolow returns her to the executioner. Quasimodo in rage pushes Claude Frollo out of the church tower. \n\n 
URL:https://operabalet.mk/en/event/la-esmeralda-cesare-pugni-4-2-2020/
LOCATION:Blvd. Goce Delchev 4\, Skopje\, 1000\, Macedonia
CATEGORIES:ballet
ATTACH;FMTTYPE=image/jpeg:https://operabalet.mk/en/wp-content/uploads/sites/2/2020/01/esmeralda.jpg
END:VEVENT
END:VCALENDAR