BEGIN:VCALENDAR
VERSION:2.0
PRODID:-//National opera and ballet - ECPv4.0.7//NONSGML v1.0//EN
CALSCALE:GREGORIAN
METHOD:PUBLISH
X-WR-CALNAME:National opera and ballet
X-ORIGINAL-URL:https://operabalet.mk/en
X-WR-CALDESC:Events for National opera and ballet
BEGIN:VEVENT
DTSTART;TZID="UTC+0":20210922T200000
DTEND;TZID="UTC+0":20210922T210000
DTSTAMP:20260423T152402
CREATED:20210914T084419
LAST-MODIFIED:20210917T101656
UID:1098-1632340800-1632344400@operabalet.mk
SUMMARY:La\, La\, La - ballet performance (22.9.2021)
DESCRIPTION:\n"LA\, LA\, LA ..."\nChoreographer: Sasha Evtimova\nCostume design: Alexander Noshpal\nLight design: Milcho Aleksandrov\nMusic: Dragan Gjakonovski - Shpato\, Duke Bojadziev\, Dimitar Masevski\nPerforming soloists and the ballet ensemble of the National Opera and Ballet\nWomen's ensemble: Angela Velevska\, Mila Ninovska\, Hristina Nakjevska\, Simona Mitovska\, Angela Bogatinova\, Bojana Hristovska\, Ivana Dimkoska\, Melanija Gocevska\, Martina Dimovska\nMale ensemble: Igor Velanoski\, Andrew Cook\, Miroslav Mitrashinovikj\, Agim Baftii\, Martin Sazdovski\, Kristijan Yangos\, Jan Kisilev\, Nikola Orso\n**********************************************\nThe event will be held according to the protocols provided by the current situation caused by the Covid-19 pandemic for holding events\, approved by the Commission for Infectious Diseases.\nEntry is allowed only with a certificate for vaccination against COVID-19 or a certificate for having passed COVID-19 in the last 45 days\, counting from the day of recovery.\nIt is mandatory to wear a protective mask.
URL:https://operabalet.mk/en/event/la-la-la-ballet-performance-22-9-2021/
LOCATION:Array
CATEGORIES:ballet
ATTACH;FMTTYPE=image/jpeg:https://operabalet.mk/en/wp-content/uploads/sites/2/2017/06/lalala.jpg
END:VEVENT
END:VCALENDAR