BEGIN:VCALENDAR
VERSION:2.0
PRODID:-//National opera and ballet - ECPv4.0.7//NONSGML v1.0//EN
CALSCALE:GREGORIAN
METHOD:PUBLISH
X-WR-CALNAME:National opera and ballet
X-ORIGINAL-URL:https://operabalet.mk/en
X-WR-CALDESC:Events for National opera and ballet
BEGIN:VEVENT
DTSTART;TZID="UTC+0":20241119T200000
DTEND;TZID="UTC+0":20241119T213000
DTSTAMP:20260423T084305
CREATED:20241106T113432
LAST-MODIFIED:20241114T141255
UID:1537-1732046400-1732051800@operabalet.mk
SUMMARY:"LE DONNE DI PUCCINI" - gala event (19.11.2024)
DESCRIPTION:\nNATIONAL OPERA AND BALLET: GALA EVENT\n"LE DONNE DI PUCCINI"\nCONCERT OF THE SOLOISTS OF THE NATIONAL OPERA AND BALLET\n19.11.2024\, Foyer of the National Opera and Ballet\, 8:00 p.m.\nThe National Opera and Ballet is proud to announce the solemn gala event commemorating the centenary of the death of the great Italian composer Giacomo Puccini.\nAs an institution\, we have a responsibility to nurture art and pass it on to future generations. We are committed to enriching the country's cultural scene through repertoire and events tailored for all ages.\nThe Donor Gala event titled "Le Donne di Puccini " will be held on November 19\, 2024\, in the foyer of the National Opera and Ballet\, starting at 8 p.m. Our audience will have a unique opportunity to enjoy top performances of the great Puccini's most famous arias.\n12 arias will be performed at the concert\, interpreted by eight prominent soloists from our opera house\, with piano accompaniment.\n \nSoloists:\nVesna Gjinovska Ilkova;\nSandra Mitrovska;\nPavlina Novakova Georgiev;\nZlata Toshevska Dimovska;\nAleksandra Lazarevska Vasilevski;\nKaterina Stojanovska;\nBiljana Josifov;\nIlina Mitrevska;\nPiano accompaniment: Andrej Naunov\nDirector: Dejan Proshev\nAt the same time\, an exhibition entitled "Puccini through the history of MOB" will be set up\, which will present materials from our rich archive.\nThis event represents the culmination of our annual cultural offer and an opportunity to socialize with the artists and the creative team of the National Opera\, in an extraordinary atmosphere.\nYour presence and support will allow us to deepen cooperation with the local community and create programs that will allow thousands of people to experience performing arts at its best\, supporting Macedonian culture and identity.\nThe price of the tickets for this event is 3000 denars.\nThe number of tickets is limited and therefore we invite all those interested to reserve their seats through our official channels.\n \nPROGRAM:\n1. Giorgetta's aria “E ben altro il mio sogno” from the opera “The Cloak”\nPerformed by: Pavlina Novakova Georgieva\n2. Mimi's aria “Si. Mi chiamano Mimi” from the opera “Bohème”\nPerformed by: Katerina Stojanovska\n3. Musetta’s aria “Quando m’en vo” from the opera “Bohème”\nPerformed by: Aleksandra Lazarevska Vasilevski\n4. Lauretta’s aria “O mio babbino caro” from the opera “Gianni Schicchi”\nPerformed by: Biljana Josifov\n5. Manon Lescaut’s aria “Sola\,perduta\,abbandonata”\nPerformed by: Sandra Mitrovska\n6. Magda’s aria “Chi il bel sogno di Doretta” from the opera “La Rondine”\nPerformed by: Ilina Mitrevska\n7. Manon’s aria “In quelle trine morbide”\, from the opera “Manon Lescaut”\nPerformed by: Zlata Toshevska Dimovska\n8. Liu’s aria “Signore Ascolta” from the opera “Turandot”\nPerformed by: Biljana Josifov\n9. Suor Angelika – Senza Mamma\nPerformed by: Ilina Mitrevska\n10.Aria by Cho Cho San “Tu Tu Piccolo Iddio” from the opera “Madame Butterfly”\nPerformed by: Sandra Mitrovska\n11.Aria by Floria Tosca “Vissi d’arte”\, from the opera “Tosca”\nPerformed by: Vesna Gjinovska-Ilkova
URL:https://operabalet.mk/en/event/le_donne_di_puccini/
LOCATION:Array
CATEGORIES:Concert
ATTACH;FMTTYPE=image/png:https://operabalet.mk/en/wp-content/uploads/sites/2/2024/11/le_donne_di_puccini.png
END:VEVENT
END:VCALENDAR