BEGIN:VCALENDAR
VERSION:2.0
PRODID:-//National opera and ballet - ECPv4.0.7//NONSGML v1.0//EN
CALSCALE:GREGORIAN
METHOD:PUBLISH
X-WR-CALNAME:National opera and ballet
X-ORIGINAL-URL:https://operabalet.mk/en
X-WR-CALDESC:Events for National opera and ballet
BEGIN:VEVENT
DTSTART;TZID="UTC+0":20241108T195500
DTEND;TZID="UTC+0":20241129T220000
DTSTAMP:20260423T122703
CREATED:20241018T135042
LAST-MODIFIED:20241018T135428
UID:1529-1731095700-1732917600@operabalet.mk
SUMMARY:"MONTH OF PUCHINI" (8-29.11.2024)
DESCRIPTION:\n\nNovember at the National Opera and Ballet will be dedicated to commemorating the 100th anniversary of the death of the Italian composer Giacomo Puccini. For the 100 years of the greatest opera composer Giacomo Puccini\, in the month of November we have dedicated four of his grandiose works - La Boheme\, Madame Butterfly\, Tosca and Turandot. The performances will be performed by the high-quality ensemble of the National Opera and Ballet enriched by top conductors and opera soloists from Italy\, Greece\, China and South Korea..."\n"LA BOHÈME" (8.11.2024)\n\n\n“MADAMA BUTTERFLY” (16.11.2024)\n"TOSCA" (23.11.2024)\n“TURANDOT” (29.11.2024)\n\nThe National Opera and Ballet for its audience and lovers of opera art\, offers the option of buying block tickets for the four opera performances with a 20% reduction.\nFor more information and reservation of block tickets\, contact the ticket office of the National Opera and Ballet.\n \nMONDAY - SATURDAY\n10:00 a.m. to 8:00 p.m\nTicket office: +389 2 3 118 451\nMobile: +389 78 426 536\n\n
URL:https://operabalet.mk/en/event/month-of-puchini-8-29-11-2024/
LOCATION:Array
CATEGORIES:opera
ATTACH;FMTTYPE=image/jpeg:https://operabalet.mk/en/wp-content/uploads/sites/2/2024/10/puccini-slide.jpg
END:VEVENT
END:VCALENDAR