BEGIN:VCALENDAR
VERSION:2.0
PRODID:-//National opera and ballet - ECPv4.0.7//NONSGML v1.0//EN
CALSCALE:GREGORIAN
METHOD:PUBLISH
X-WR-CALNAME:National opera and ballet
X-ORIGINAL-URL:https://operabalet.mk/en
X-WR-CALDESC:Events for National opera and ballet
BEGIN:VEVENT
DTSTART;TZID="UTC+0":20240921T200000
DTEND;TZID="UTC+0":20240921T230000
DTSTAMP:20260423T163131
CREATED:20240910T145544
LAST-MODIFIED:20240913T135349
UID:1511-1726948800-1726959600@operabalet.mk
SUMMARY:"NABUCCO" - Giuseppe Verdi (21.9.2024)
DESCRIPTION:\nGiuseppe Verdi\n "NABUCCO"\n21.9.2024\nConductor: Bisera Chadlovska\nDirector: Renato Bonajuto (Italy)\nSet designer: Flavio Arbetti (Italy)\nCostume designer: Artemio Cabassi (Italy)\nChoraographer: Maja Mitrovska Bogojevska\nAss. Conductor: Katerina Stojkovska\nAssistant director: Teresa Gargano (Italy)\, Trajko Jordanovski\, Ljupka Jakimovska\nConcertmaster: Jane Bakevski\nChoir-master: Jasmina Gjorgjeska\nLight design: Milcho Aleksandrov\nAccompanists: Elena Siljanoska\, Janinka Nevcheva\, Andreja Naunov\, Jordan Petrushevski\nStage managers: Dragan Kostadinović\, Marko Pavlevski\nPrompter: Nevena Georgieva\nCAST:\nNabucco: Marjan Jovanoski\nAbigaille: Zlata Toshevska Dimovska\nFenena: Nikolina Janevska\nIsmaele: Zoran Sotirov\nZaccaria: Igor Durlovski\nThe great priest: Dime Petrov\nAnna: Katerina Stojanovska\nAbdallo:  Dejan Stoev\nThe choir\, the orchestra\, the women's ballet ensemble and students from the ballet department at DMBUC "Ilija Nikolovski - Luj"\nSynopsis\nACT I\nJerusalem\, interior of Solomon's Temple\nJerusalem\, 6th century B.C. The Israelites are praying for help against Nabucco\, king of Babylon\, who has attacked them and is vandalizing the city. Zaccaria\, their high priest\, appears with Nabucco’s daughter\, Fenena\, whom the Hebrews hold hostage. He reassures his people that the Lord will not forsake them. As the Israelites leave\, Ismaele\, nephew of the King of Jerusalem\, is left alone with Fenena. The two fell in love during Ismaele’s imprisonment in Babylon\, and Fenena helped him escape and followed him to Jerusalem. Their conversation is interrupted by the sudden appearance of Fenena’s half-sister\, Abigaille\, and a band of disguised Babylonian soldiers. Abigaille\, who is also in love with Ismaele\, tells him that she can save his people if he will return her love\, but he refuses. The Israelites rush back into the temple in a panic. When Nabucco enters with his warriors\, Zaccaria confronts him\, threatening to kill Fenena. Ismaele disarms the priest and delivers Fenena to her father. Nabucco orders the destruction of the temple.\nACT II\nL'Empio\, apartments in the palace\nNabucco has appointed Fenena regent while he is away at the wars. Abigaille\, back in the royal palace in Babylon\, has found a document saying that she is not the king’s daughter but the child of slaves. Foreseeing a future in which Fenena and Ismaele will rule together over Babylon\, she swears vengeance on Nabucco and Fenena. The High Priest of Baal arrives with news that Fenena has freed the Israelite prisoners. As a result of her treason\, he offers the throne to Abigaille and proposes to spread the rumor that Nabucco has fallen in battle.\nElsewhere in the palace\, Zaccaria prays for inspiration to persuade the Babylonians to give up their false idols.\nIsmaele enters and the assembled Levites accuse him of treachery\, but Zaccaria announces that he has been pardoned for saving a fellow Israelite—the newly converted Fenena. An officer rushes in to warn Fenena that the king is dead and her life is in danger. Before she can escape\, the High Priest of Baal arrives with Abigaille and the Babylonians\, who proclaim Abigaille ruler. She is about to crown herself when\, to the astonishment of all\, Nabucco appears. He snatches the crown from her\, faces the crowd and declares himself not only their king but their god. For this blasphemy\, a thunderbolt strikes him down. Abigaille\, triumphant\, retrieves the crown for herself.\nACT III\nThe Prophecy\, hanging gardens\nThe Babylonians hail Abigaille as their ruler. The High Priest urges her to have the Israelites killed\, but before she can give the order\, the disheveled Nabucco wanders in. Abigaille dismisses the crowd and\, alone with Nabucco\, tricks him into signing the death warrant for the captive Israelites. He asks what will happen to Fenena\, and Abigaille replies that she too must die. When Nabucco tries to find in his garments the document proving Abigaille’s ancestry\, she produces it and tears it to pieces. He pleads in vain for Fenena’s life.\nAlong the banks of the Euphrates\, the Israelites rest from forced labor\, their thoughts turning to their homeland. Zaccaria predicts they will overcome captivity and obliterate Babylon with the help of God.\nACT IV\nThe broken Idol\, apartments in the palace\nFrom a window in his apartment\, where he has been locked up by Abigaille\, Nabucco watches Fenena and the Israelites being led to execution. Desperate\, he prays to the god of Israel for forgiveness\, pledging to convert himself and his people. His sanity restored\, he forces open the door and summons his soldiers to regain the throne and save his daughter.\nThe Israelites are about to be executed. Fenena prays to be received into heaven when Nabucco rushes in and stops the sacrifice. Abigaille\, full of remorse\, takes poison and dies\, confessing her crimes and praying to the god of Israel to pardon her. Nabucco announces his conversion and frees the Israelites\, telling them to return to their native land and rebuild their temple. Israelites and Babylonians are united in praising God.\n
URL:https://operabalet.mk/en/event/nabucco-giuseppe-verdi-21-9-2024/
LOCATION:Array
CATEGORIES:opera
ATTACH;FMTTYPE=image/jpeg:https://operabalet.mk/en/wp-content/uploads/sites/2/2023/10/nabuko-web_slide-1024x456-1.jpg
END:VEVENT
END:VCALENDAR