BEGIN:VCALENDAR
VERSION:2.0
PRODID:-//National opera and ballet - ECPv4.0.7//NONSGML v1.0//EN
CALSCALE:GREGORIAN
METHOD:PUBLISH
X-WR-CALNAME:National opera and ballet
X-ORIGINAL-URL:https://operabalet.mk/en
X-WR-CALDESC:Events for National opera and ballet
BEGIN:VEVENT
DTSTART;TZID="UTC+0":20220511T200000
DTEND;TZID="UTC+0":20220511T230000
DTSTAMP:20260424T030302
CREATED:20220422T210118
LAST-MODIFIED:20220509T104153
UID:1193-1652299200-1652310000@operabalet.mk
SUMMARY:“NORMA” - Vincenzo Bellini (11.5.2022)
DESCRIPTION:\nVincenzo Bellini\n“NORMA”\n11.05.2022\nConductor: Enrico Dovico (Italy)\nDirector: Renato Bonajuto (Italy)\nScenographer and Costumographer: Flavio Arbeti (Italy)\nChoir Master: Gjurgjica Dashikj\nAss.director: Trajko Jordanovski\, Ljupka Jakimovska\nAss.conductor: Katerina Stojkovska\nAss. Costume designer: Angela Bogevska\nConcert Master: Verica Lambevska\nVocal coach: Pelagija Cherneva Panajotova\nCorrespondents: Elena Siljanovska\, Janinka Nevcheva\, Andreja Naunov\, Jordan Petrushevski\nStage managers: Ljupcho Polizov\, Dragan Kostadinovikj\, Marko Pavlevski\nPrompters: Pavlina Zdravkova\, Nevena Georgieva\nCast:\nNorma: Blagica Pop Tomova\nPollione: Gjorgji Cuckovski\nAdalgisa: Nikolina Janevska\nOroveso: Ivan Tomashev (Serbia)\nClotilde: Marika Popovikj\nFlavio: Dejan Stoev\nChildren: Vasilij and Stefan Dashikj\nPerforming  Orchestra and Choir of the National Opera & Ballet\n 
URL:https://operabalet.mk/en/event/norma-vincenzo-bellini-11-5-2022/
LOCATION:Array
CATEGORIES:opera
ATTACH;FMTTYPE=image/jpeg:https://operabalet.mk/en/wp-content/uploads/sites/2/2022/04/NORMA-MKD-002.jpg
END:VEVENT
END:VCALENDAR