BEGIN:VCALENDAR
VERSION:2.0
PRODID:-//National opera and ballet - ECPv4.0.7//NONSGML v1.0//EN
CALSCALE:GREGORIAN
METHOD:PUBLISH
X-WR-CALNAME:National opera and ballet
X-ORIGINAL-URL:https://operabalet.mk/en
X-WR-CALDESC:Events for National opera and ballet
BEGIN:VEVENT
DTSTART;TZID="UTC+0":20220509T200000
DTEND;TZID="UTC+0":20220509T230000
DTSTAMP:20260424T014117
CREATED:20220422T205637
LAST-MODIFIED:20220504T102521
UID:1185-1652126400-1652137200@operabalet.mk
SUMMARY:"NORMA" – Vincenzo Bellini -Premiere (9.5.2022)
DESCRIPTION:\n50 May Opera Evenings\n Grand Opening\nVincenzo Bellini\n “NORMA”\n 09.05.2022\nConductor: Enrico Dovico (Italy)\nDirector: Renato Bonajuto (Italy)\nSet and Costume designer: Flavio Arbetti (Italy)\nCostume co-author: Marija Papuchevska\nChoir Master: Gjurgjica Dashikj\nAss.director: Trajko Jordanovski\, Ljupka Jakimovska\nAss.conductor: Katerina Stojkovska\nAss. Costume designer: Angela Bogeska\nConcert Master: Verica Lambevska\nVocal coach: Pelagija Cherneva Panajotova\nCorrespondents: Elena Siljanovska\, Janinka Nevcheva\, Andreja Naunov\, Jordan Petrushevski\nStage managers: Ljupcho Polizov\, Dragan Kostadinovikj\, Marko Pavlevski\nPrompters: Pavlina Zdravkova\, Nevena Georgieva\nCast:\nNorma: Blagica Pop Tomova\nPollione: Gjorgji Cuckovski\nAdaljiza: Sandra Mitrovska\nOrovezo: Ivan Tomashev (Serbia)\nKlotilde: Marika Popovikj\nFlavio: Dejan Stoev\nChildren: Vasilij and Stefan Dashikj\nPerforming  Orchestra and Choir of the National Opera & Ballet \n 
URL:https://operabalet.mk/en/event/norma-vincenzo-bellini-premiere-9-5-2022/
LOCATION:Array
CATEGORIES:opera
ATTACH;FMTTYPE=image/jpeg:https://operabalet.mk/en/wp-content/uploads/sites/2/2022/04/NORMA-MKD-002.jpg
END:VEVENT
END:VCALENDAR