BEGIN:VCALENDAR
VERSION:2.0
PRODID:-//National opera and ballet - ECPv4.0.7//NONSGML v1.0//EN
CALSCALE:GREGORIAN
METHOD:PUBLISH
X-WR-CALNAME:National opera and ballet
X-ORIGINAL-URL:https://operabalet.mk/en
X-WR-CALDESC:Events for National opera and ballet
BEGIN:VEVENT
DTSTART;TZID="UTC+0":20190509T200000
DTEND;TZID="UTC+0":20190509T235500
DTSTAMP:20260424T124633
CREATED:20190415T081743
LAST-MODIFIED:20190508T120936
UID:840-1557432000-1557446100@operabalet.mk
SUMMARY:Official opening of 47th May Opera Evenings / Aida - Giuseppe Verdi (9.5.2019)
DESCRIPTION:\n09.05.2019\n Official opening\n PREMIERE\n AIDA - Giuseppe Verdi\n Production: Teatro Carlo Felice (Genoa\, Italy)\nConductor: Enrico Dovico (Italy)\nAdapted and staged for NOB: Dejan Proshev\nChoreographer: Luisa Baldinetti (Italy)\nLight designer: Vasko Lisichov\nAss. Choreographer: Sasha Evtimova\, Nicola Marrapodi (Italy)\nConcert master: Verica Lambevska\nCAST:\nAida: Blagica Pop Tomova\nRadames: Amadi Lagha (France/Tunisia)\nAmneris: Irena Kavkalevska\nRamfis: Vladimir Sazdovski\nPharaon: Evgeniy Stanimirov (Bulgaria)\nAmonasro: Boris Trajanov\nPriestess: Katerina Stojanovska\nA Messenger: Marjan Nikolovski\nBallet Solist: Ivana Kocevska\nMale Ballet Ensemble and the orchestra of NOB
URL:https://operabalet.mk/en/event/official-opening-of-47th-may-opera-evenings-aida-giuseppe-verdi-9-5-2019/
LOCATION:Blvd. Goce Delchev 4\, Skopje\, 1000\, Macedonia
CATEGORIES:opera
ATTACH;FMTTYPE=image/png:https://operabalet.mk/en/wp-content/uploads/sites/2/2019/04/OPENING-AIDA-COVER-ANGLISKI-1.png
END:VEVENT
END:VCALENDAR