BEGIN:VCALENDAR
VERSION:2.0
PRODID:-//National opera and ballet - ECPv4.0.7//NONSGML v1.0//EN
CALSCALE:GREGORIAN
METHOD:PUBLISH
X-WR-CALNAME:National opera and ballet
X-ORIGINAL-URL:https://operabalet.mk/en
X-WR-CALDESC:Events for National opera and ballet
BEGIN:VEVENT
DTSTART;TZID="UTC+0":20160621T210000
DTEND;TZID="UTC+0":20160621T223000
DTSTAMP:20260424T222923
CREATED:20160530T233010
LAST-MODIFIED:20160530T233120
UID:224-1466542800-1466548200@operabalet.mk
SUMMARY:Official  opening  “Skopje Summer Festival” Gala concert - The soloists of MOB (concert on the plateau of MOB)
DESCRIPTION:Gala concert- The soloists of MOB\n\nConductor: Bisera Chadlovska\n\nSoloists: Slavica Galic-Petrovska\, Vesna Gjinovska-Ilkova\, Nade Talevska-Spasovska\, Ivana Zdravkova\, Biljana Josifov\, Nikolina Janevska\, Gjorgji Cuckovski\, Zoran Sotirov\, Riste Velkov\, Darko Neshovski
URL:https://operabalet.mk/en/event/official-opening-skopje-summer-festival-gala-concert-the-soloists-of-mob-concert-on-the-plateau-of-mob/
LOCATION:Blvd. Goce Delchev 4\, Skopje\, 1000\, Macedonia
CATEGORIES:Concert
ATTACH;FMTTYPE=image/gif:https://operabalet.mk/en/wp-content/uploads/sites/2/2016/03/01.gif
END:VEVENT
END:VCALENDAR