BEGIN:VCALENDAR
VERSION:2.0
PRODID:-//National opera and ballet - ECPv4.0.7//NONSGML v1.0//EN
CALSCALE:GREGORIAN
METHOD:PUBLISH
X-WR-CALNAME:National opera and ballet
X-ORIGINAL-URL:https://operabalet.mk/en
X-WR-CALDESC:Events for National opera and ballet
BEGIN:VEVENT
DTSTART;TZID="UTC+0":20230620T200000
DTEND;TZID="UTC+0":20230620T220000
DTSTAMP:20260423T100004
CREATED:20230614T064102
LAST-MODIFIED:20230619T142518
UID:1366-1687291200-1687298400@operabalet.mk
SUMMARY:Concert of young opera singers "Kosta Trpkov" (20.6.2023)
DESCRIPTION:\nConcert of young opera singers "Kosta Trpkov"\n06/20/2023 – 8:00 p.m. Salon of National Opera and Ballet\nPerforming soloists\, students of vocal studies\, from the Faculty of Music at UKIM and UGD\nOrchestra of the National Opera and Ballet\nConductor: Ivan Eminovikj\nConcertmaster: Kliment Todoroski\n1. Biljana Budzakoska - soprano\, second year (class of Prof. Vesna Gjinovska Ilkova\, MA)\n- W. A. Mozart: "Porgi amor"\, Countess’ aria from the opera "Le nozze di Figaro"\n2. Teodora Pejikj - mezzo-soprano\, first year (class of Prof. Dr. Goran Nachevski)\n- W. A. Mozart: "Voi che sapete" Cherubino’s aria from the opera "Le nozze di Figaro"\n3. Dejan Simoski - bass\, second year (class of Prof. Ivan Naumovski\, MA)\n- W. A. Mozart: "Notte e giorno faticar" – Leporelloa’s aria from the opera "Don Giovanni"\n4. Nikola Chedomirovski - baritone (class of Assoc. Marjan Nikolovski\, MA)\n- W.A. Mozart: "Non piu andrai..." – Figaro’s aria from the opera "Le nozze di Figaro"\n5. Angela Andovska - soprano\, first year (class of Prof. Dr. Goran Nachevski)\n- G. Puccini - "O mio babbino caro" – Lauretta’s aria from the opera "Gianni Schicchi"\n6. Nikola Davidovski – baritone\, (class of Prof. Boris Trajanov\, MA)\n- V. Bellini: "Ah! Per semper io ti perdei" – Ricardo’s aria from the opera "I Puritani"\n7. Eva Zhivkovska - soprano\, second year (class of Prof. Ivan Naumovski\, MA)\n- G. Puccini: "Signore ascolta" – Liu’s aria from the opera "Turandot"\n8. Marija Gjordjievska - soprano\, fourth year (class of Prof. Vesna Gjinovska Ilkova\, MA)\n- G. Verdi "Addio del passato" – Violetta’s aria from the opera "La Traviata"\n9. Marija Tashevska - soprano\, fourth year (class of Prof. Dr. Goran Nachevski)\n- G. Bizet: "Je dis que rien ne m'épouvante" – Michaela’s aria from the opera "Carmen"\n10. Elena Vasova - soprano\, fourth year (class of Prof. Ivan Naumovski\, MA)\n- W.A.Mozart: "Batti\, batti o bel Masetto" – Zerlina’s aria from the opera "Don Giovanni"\n11. Isabela Dimovska - mezzo-soprano\, second cycle (class of Prof. Ivan Naumovski\, MA)\n- J. Strauss II: "Ich lade gern mir Gäste ein" - Prince Orlovsky’s aria from the operetta "Die Fledermaus"\n12. David Miladinov – baritone\, (class of Prof. Boris Trajanov\, MA)\n- G. Donizetti: "Ambo nati in questavalle" – Antonio’s aria from the opera "Linda di Chamounix"\n13. Makedonka Petreska\, third year (class of Prof. Vesna Gjinovska Ilkova\, MA)\n- G. Puccini: "Tu che di gel sei cinta" – Liu’s aria from the opera "Turandot"\n14. Marija Tashevska - soprano and Vejcheslav Popovski - tenor\n- G.Verdi: Violetta and Alfredo’s duet from the opera "La Traviata"\n15. Martina Mitrevska - soprano\, fourth year (class of Prof. Ivan Naumovski\, MA)\n- J. Strauss II: "Mein Herr Marquis" – Adele’s aria from the operetta "Die Fledermaus"\n16. Marija Gjorgjievska - soprano\, fourth year (class of Prof. Vesna Gjinovska Ilkova\, MA)\n- E. Kálmán: "Heia\, heia in den Bergen" – Sylva’s aria from the operetta "Die Csárdásfürstin"\n17. Marija Tashevska - soprano\, fourth year (class of Prof. Dr. Goran Nachevski)\n- F. Lehar: "Vilja – Lied" Anna Glavari’s aria from the operetta "Die lustige Witwe"\n18. Martina Mitrevska - soprano and Vejcheslav Popovski - tenor\n- E. Kálmán: Sylva and Edwin’s duet from the operetta "Die Csárdásfürstin"
URL:https://operabalet.mk/en/event/oncert-of-young-opera-singers-kosta-trpkov-20-6-2023/
LOCATION:Array
CATEGORIES:Concert
ATTACH;FMTTYPE=image/jpeg:https://operabalet.mk/en/wp-content/uploads/sites/2/2023/06/kosta-trpkov.jpg
END:VEVENT
END:VCALENDAR