BEGIN:VCALENDAR
VERSION:2.0
PRODID:-//National opera and ballet - ECPv4.0.7//NONSGML v1.0//EN
CALSCALE:GREGORIAN
METHOD:PUBLISH
X-WR-CALNAME:National opera and ballet
X-ORIGINAL-URL:https://operabalet.mk/en
X-WR-CALDESC:Events for National opera and ballet
BEGIN:VEVENT
DTSTART;TZID="UTC+0":20250905T200000
DTEND;TZID="UTC+0":20250905T213000
DTSTAMP:20260423T094609
CREATED:20250902T132518
LAST-MODIFIED:20250902T132518
UID:1654-1757102400-1757107800@operabalet.mk
SUMMARY:Opera concert – GUEST PERFORMANCE IN SHTIP (5.9.2025)
DESCRIPTION:\nCONCERT\n"100 YEARS OF THE FIRST OPERA PERFORMED IN MACEDONIA – PAGLIACCI - IN SHTIP"\n05.09.2025\, House of Culture\,\,Aco Shopov\,\, \, 8:00 PM\nConductor: Bisera Chadlovska\n\nProgram:\nR. Leoncavallo - Intermezzo from the opera Pagliaci\nG. Puccini - aria of Giorgetta from the opera The Cloak\nPerformed by - Pavlina Novakova Georgiev\nG. Verdi - aria of Georges Germont from the opera La Traviata\nPerformed by - Riste Velkov\nJ. Bizet - aria of Micaela from the opera Carmen\nPerformed by - Elena Golomeova\nG. Puccini – Tosca's aria from the opera of the same name\nPerformed by – Desira Ahmeti Krliu\nG. Verdi – Banquo's aria from the opera Macbeth\nPerformed by – Aleksandar Stefanoski\nG. Verdi – Leonora's aria from the opera The Power of Destiny\nPerformed by – Pavlina Novakova\nP. Mascagni - Intermezzo from the opera Cavalleria Rusticana\nF. Chilea – Federico's Cry from the opera La Arlesiana\nPerformed by – Zoran Sotirov\nJ. Strauss – Adele's aria from the opera The Bat\nPerformed by - Ana Roydeva Talevska\nJ. Bizet – Escamillo's aria from the opera Carmen\nPerformed by – Riste Velkov\nS. Gounod – Juliet's aria from the opera "Romeo and Juliet"\nPerformed by: Elena Golomeova\nG. Puccini – Musetta's aria from the opera La Bohème\nPerformed by – Dashira Ahmenti Krliu\nV.A. Mozart – duet of Zerlina and Don Giovanni from the opera Don Giovanni\nPerformed by Ana Rojdeva / Aleksandar Stefanoski\nR. Leoncavallo – Canio's aria from the opera Pagliacci\nPerformed by – Zoran Sotirov\nPerforming soloists and the orchestra of the National Opera and Ballet\nConductor: Dragan Kostadinovikj
URL:https://operabalet.mk/en/event/opera-concert-guest-performance-in-shtip-5-9-2025/
LOCATION:Array
CATEGORIES:Concert
ATTACH;FMTTYPE=image/gif:https://operabalet.mk/en/wp-content/uploads/sites/2/2016/03/01.gif
END:VEVENT
END:VCALENDAR