BEGIN:VCALENDAR
VERSION:2.0
PRODID:-//National opera and ballet - ECPv4.0.7//NONSGML v1.0//EN
CALSCALE:GREGORIAN
METHOD:PUBLISH
X-WR-CALNAME:National opera and ballet
X-ORIGINAL-URL:https://operabalet.mk/en
X-WR-CALDESC:Events for National opera and ballet
BEGIN:VEVENT
DTSTART;TZID="UTC+0":20230701T210000
DTEND;TZID="UTC+0":20230701T220000
DTSTAMP:20260423T100332
CREATED:20230614T064436
LAST-MODIFIED:20230614T064453
UID:1368-1688245200-1688248800@operabalet.mk
SUMMARY:Opera concert within the "Skopje Summer Festival" (1.7.2023)
DESCRIPTION:\nOpera concert within the Skopje Summer  Festival- 9:00 p.m.\n(National Opera and Ballet)\nPerforming  soloists and the orchestra of National Opera and Ballet\nConductor: Revaz Javakshvili – Georgia
URL:https://operabalet.mk/en/event/opera-concert-within-the-skopje-summer-festival-1-7-2023/
LOCATION:Array
CATEGORIES:Concert
ATTACH;FMTTYPE=image/gif:https://operabalet.mk/en/wp-content/uploads/sites/2/2016/03/03.gif
END:VEVENT
END:VCALENDAR