BEGIN:VCALENDAR
VERSION:2.0
PRODID:-//National opera and ballet - ECPv4.0.7//NONSGML v1.0//EN
CALSCALE:GREGORIAN
METHOD:PUBLISH
X-WR-CALNAME:National opera and ballet
X-ORIGINAL-URL:https://operabalet.mk/en
X-WR-CALDESC:Events for National opera and ballet
BEGIN:VEVENT
DTSTART;TZID="UTC+0":20210617T210000
DTEND;TZID="UTC+0":20210617T220000
DTSTAMP:20260423T134412
CREATED:20210616T110522
LAST-MODIFIED:20210616T110522
UID:1091-1623963600-1623967200@operabalet.mk
SUMMARY:Opera recital  (17.06.2021\, Mother Teresa Square)
DESCRIPTION:\nOpera recital of the soloists of the National Opera and Ballet\n17.06.2021\, Mother Teresa Square - in front of the entrance of the National Opera and Ballet\n\nDirector: Dejan Prosev\nStage managers: Ljupcho Polizov\, Dragan Kostadinovikj\, Marko Pavlevski\n\nPerforming:\nBiljana Josifov - soprano\nZlata Tosevska - soprano\nElena Golomeova - soprano\nDragan Ampov - baritone\n\nPiano accompanist: Andreja Naunov
URL:https://operabalet.mk/en/event/opera-recital-17-06-2021-mother-teresa-square/
LOCATION:Array
CATEGORIES:Concert
ATTACH;FMTTYPE=image/gif:https://operabalet.mk/en/wp-content/uploads/sites/2/2016/03/03.gif
END:VEVENT
END:VCALENDAR