BEGIN:VCALENDAR
VERSION:2.0
PRODID:-//National opera and ballet - ECPv4.0.7//NONSGML v1.0//EN
CALSCALE:GREGORIAN
METHOD:PUBLISH
X-WR-CALNAME:National opera and ballet
X-ORIGINAL-URL:https://operabalet.mk/en
X-WR-CALDESC:Events for National opera and ballet
BEGIN:VEVENT
DTSTART;TZID="UTC+0":20210517T200000
DTEND;TZID="UTC+0":20210517T203500
DTSTAMP:20260423T123232
CREATED:20210514T132502
LAST-MODIFIED:20210514T132502
UID:1071-1621281600-1621283700@operabalet.mk
SUMMARY:Opera recital (17.5.2021 - online)
DESCRIPTION:\nPerforming:\nVesna Gjinovska Ilkova - soprano\,\nGjorgji Cuckovski - tenor\nPiano accompanist: Elena Siljanoska\n\nDirector: Dejan Proshev\nStage managers: Ljuocho Polizov\, Dragan Kostadinovikj\, Marko Pavlevski\nProgram:\nDuet of Don Jose and Mikaela from the opera "Carmen" - G. Bizet\nDuet of Radames and Aida from the opera "Aida" - G. Verdi\nDuet of Santuza and Turidu from the opera "Cavalleria Rusticana" - P. Mascagni\nDuet of Pinkerton and Cho Cho San from the opera "Madame Butterfly" - G. Puccini
URL:https://operabalet.mk/en/event/opera-recital-17-5-2021-online/
LOCATION:Array
CATEGORIES:Concert
ATTACH;FMTTYPE=image/jpeg:https://operabalet.mk/en/wp-content/uploads/sites/2/2021/05/vesna-cucko.jpg
END:VEVENT
END:VCALENDAR