BEGIN:VCALENDAR
VERSION:2.0
PRODID:-//National opera and ballet - ECPv4.0.7//NONSGML v1.0//EN
CALSCALE:GREGORIAN
METHOD:PUBLISH
X-WR-CALNAME:National opera and ballet
X-ORIGINAL-URL:https://operabalet.mk/en
X-WR-CALDESC:Events for National opera and ballet
BEGIN:VEVENT
DTSTART;TZID="UTC+0":20250221T190000
DTEND;TZID="UTC+0":20250221T200000
DTSTAMP:20260423T121904
CREATED:20250206T110005
LAST-MODIFIED:20250206T110005
UID:1579-1740164400-1740168000@operabalet.mk
SUMMARY:PETER PAN -ballet for children (21.2.2025 - 7PM)
DESCRIPTION:\nPETER PAN\nChildren's ballet play\n21.02.2025\, 19:00 \nChoreographer: James Amar (France)\nScenographer: Zoran Kostovski\nCostume designer: Maria Pupuchevska\nRepetitors: Dafina Danilloska-Kochevska\, Sasha Evtimova\, Kiro Pavllov\, Biljana Basmadzhieva Kovachevski\nAccompanists: Marjan Vasilevski\, Stefan Pehchevski\nStage managers: Dubravka Shopova\, Tijana Tarçugovska Georgieva\nThe ballet soloists and the ensemble of the National Opera and Ballet\nDuration - 1 hour
URL:https://operabalet.mk/en/event/peter-pan-ballet-for-children-21-2-2025-7pm/
LOCATION:Array
CATEGORIES:ballet
ATTACH;FMTTYPE=image/jpeg:https://operabalet.mk/en/wp-content/uploads/sites/2/2016/09/petar-pan-web.jpg
END:VEVENT
END:VCALENDAR