BEGIN:VCALENDAR
VERSION:2.0
PRODID:-//National opera and ballet - ECPv4.0.7//NONSGML v1.0//EN
CALSCALE:GREGORIAN
METHOD:PUBLISH
X-WR-CALNAME:National opera and ballet
X-ORIGINAL-URL:https://operabalet.mk/en
X-WR-CALDESC:Events for National opera and ballet
BEGIN:VEVENT
DTSTART;TZID="UTC+0":20241214T200000
DTEND;TZID="UTC+0":20241214T230000
DTSTAMP:20260423T150304
CREATED:20241203T085029
LAST-MODIFIED:20241203T110728
UID:1544-1734206400-1734217200@operabalet.mk
SUMMARY:Pique Dame” - P. I. Tchaikovsky (14.12.2024)
DESCRIPTION:\n“Pique Dame”\nOpera by P. I. Tchaikovsky\nConductor: Grigor Palikarov\nDirector: Vera Nemirova\nScenography and costume design: Youlian Tabakov\nChoreography: Anna Pampulova\nConductor of choir: Teodora Georgieva\nPERFORMING:\nHerman: Valeriy Georgiev\nCount Tomsky / Zlatogor: Plamen Dimitrov\nPrince Yeletsky: Ivo Yordanov\nChekalinsky: Plamen Raykov\nSurin: Eugeniy Stanimirov\nChaplitsky: Velin Mihaylov\nNarumov: Peter Petrov\nMaster of Ceremonies: Vladislav Vladimirov\nCountess: Boyka Vasileva\nLiza: Irina Zhekova\nPolina / Milovzor: Michaela Berova\nGoverness: Vyara Zhelezova\nMasha: Galina Velikova\nPrilepa: Liliya Ilieva-Mihaylova\nState Opera Varna soloists\, orchestra\, choir and ballet\nA modern interpretation of the contradiction between love and gambling.\nTchaikovsky's most beautiful opera "Pique Dame" is an intense psychological drama and a shocking social tragedy in which a poor\, ordinary man like the protagonist Herman has no right to love in the rich world.\nA person divided into two\, torn between two passions: the impossible love for Lisa and the passion for gambling. Tchaikovsky himself is part of each of his images. Silhouettes of his complex and very suffering character are found in each of his characters.\n
URL:https://operabalet.mk/en/event/pique-dame-p-i-tchaikovsky-14-12-2024/
LOCATION:Array
CATEGORIES:opera
ATTACH;FMTTYPE=image/png:https://operabalet.mk/en/wp-content/uploads/sites/2/2024/12/pikova_dama.png
END:VEVENT
END:VCALENDAR