BEGIN:VCALENDAR
VERSION:2.0
PRODID:-//National opera and ballet - ECPv4.0.7//NONSGML v1.0//EN
CALSCALE:GREGORIAN
METHOD:PUBLISH
X-WR-CALNAME:National opera and ballet
X-ORIGINAL-URL:https://operabalet.mk/en
X-WR-CALDESC:Events for National opera and ballet
BEGIN:VEVENT
DTSTART;TZID="UTC+0":20231220T200000
DTEND;TZID="UTC+0":20231220T213000
DTSTAMP:20260423T111109
CREATED:20231012T122642
LAST-MODIFIED:20231225T102926
UID:1404-1703102400-1703107800@operabalet.mk
SUMMARY:Prayers of my body - Premiere (20.12.2023)
DESCRIPTION:\n20.12.2023\nPREMIERE\nBallet triptych\nPremiere 20.12.2023\n"Prayers of my Body"\n7:30 PM\nCeremonial closing of the jubilee on the occasion of 100 years since the birth of the poet Aco Shopov - Foyer of the National Institution National Opera and Ballet\nIdea for Project and Costume Designer: Aleksandar Noshpal\nPlaywright: Sonja Zdravkova-Dzeparoska\nChoreographers: Ivana Kocevska\, Andrijana Danchevska\, Sasha Evtimova\nComposers: Daria Andovska\, Aleksandar Grozdanovski\, Aleksandar Pejovski\nSet designer: Mihajlo Stojanovski\nVisual Artist: Florijan Changa (R. Albania)\nFilm Montage: Dorijan Milovanovikj\nMultimedia and Graphic Design: Laze Tripkov\nPoetic reading: Nikola Ristanovski\nAssistant Costume Designer: Angela Bogeska\nLighting: Yakup Yakup\, Nino Mitevski\, Pero Marachkov\nPRAYERS OF MY BODY\nballet show (triptych) inspired by the poetry cycle of the same name by Aco Shopov\, on the occasion 100 years since the poet’s birth\nCYCLE - BIRTH (NATIVITAS)\nAct One: Choreographer: Ivana Kocevska\, Composer: Darija Andovska\nPerforming:\nMOTHER: Mimi Pop- Aleksova Atanasovska / Hristina Nakjevska\nWOMAN: Martina Dimovska/ Amanda Rocha / Anja Filipovska\nGIRL: Natasha Trendafilova Gicev/ Medina Yusufovikj/ Bibi Basmadzieva Kovachevska\n3 men: Francisko Himenes Ruis (Alfred Yago)\, Balazh Lochei (Andrew Kuk)\, Igor Velanoski (Nikola Orso.Veselin Trajkovski)\n4 women: Ivana Dimkovska\, Iliyana Danilov\, Amanda Rocha\, Eva Perkovska (Medina Yusufovikj\, Melanija Gocevska\, Matea Karevski\, Anja Filipovska\, Martina Cvetanoska)\nCYCLE - WEAVE\nAct Two: Choreographer: Adrijana Danchevska\, Composer: Aleksandar Grozdanovski\nPerforming: Mimi Pop – Aleksova Atanasovska\, Iliyana Danilov\, Natasha Trendafilova\, Angela Velevska\, Ivana Dimkovska\, Melaniya Gocevska\, Angela Bogatinova\, Amanda Rocha.\nFrancisko Himenes Ruis\, Balash Lochei\, Igor Velanoski\, Andrew Kuk\, Veselin Trajkovski\, Alfred Yago.\nCYCLE - ASCENSION (IN PERPETUUM)\nAct Three: Choreography: Sasha Evtimova\, Composter: Aleksandar Pejovski\,composer: Aleksandar Pejovski\, Performed by conductor Sasho Tatarchevski with the Women's Youth Choir at MKC\, soloist: Katerina Grkovska (soprano)\, organ: Janinka Nevcheva\, harp: Sarah Mejs\, piano\, string orchestra and tape. Sound recorder: Alen Hadjistefanov. Music from the album FIROM Requiem was used.)\nAssistant of Choreography: Ksenija Sindzikj (R. Montenegro)\nPerforming: Mimi Pop - Aleksova Atanasovska\, Marija Kichevska\, Aleksandra Mijalkova\, Marija Josifovska\, Olga Pango\, Bibi Basmadzieva Kovachevska\, Natasha Trendafilova\, Marina Anastasovska\, Hristina Nakjevska\, Iliyana Danilov\, Amanda Rocha\, Mila Ninovska\, Angela Velevska\, Melanija Gocevska\, Ivana Dimkovska\, Martina Dimovska\, Eva Deskovska.\n(Vili Karayanova\, Medina Yusufovikj\, Andrijana Bogatinovska\, Leontina Karcheva\, Isidora Kitanovikj\, Teodora Stavrevska\, Bojana Arsovska\, Anja Filipovska.)\nBoban Kovachevski\, Balash Lochei\, Francisko Himnes Ruis\, Igor Velanoski\, Miro Mitrashinovikj\, Andrew Kuk\, Alfed Yago\, Veselin Trajanovski\, Todor Stojanov\, Agim Baftii\, Kristijan Yangos\, Martin Sazdovski\, Nikola Orso\, Stefan Kochevski (Marin Anchevski)\nPRAYERS OF MY BODY\nBallet triptych\nThe creation of a dramatic preposition for Shopov’s poetry was an ectatic interplay of meaning\, state\, emotion\, nuance\, aroma\, and color… It's an intoxicating process of probing the deepest chimeras of his poetic expression\, but additionally looked at through the lens of the structured matrix of stage work. Starting from the discourse of performative dance\, the idea was to accomplish a translation and conversion of the written word into movement.\nThe show is founded on twelve poems by Aco Shopov\, eleven from the cycle Prayers of my Body and the poem Birth of the Word\, which fit rather naturally into the cycle of poems. Shopov’s poems are powerful\, but subsequently intimate stories painted over into a new\, different medium. The poet frames the body in his own poetic interest\, but the body is\, on the other hand\, a tool\, a sign in the art of dance. Because of this unification of Shopov’s word and the idea of the body as his originating inspirational paradigm\, using dance as a language gave way to a natural and relatively organic transition. The show aims to create a performative alchemy\, a symbiosis of expression\, a contemporary synchronicity.\nFor the show’s needs\, the poems are structured into a triptych\, from which each part contains four poems tied in a thematically-functional frame. The three thematic cycles are connected through a thread that ties each cycle’s poems’ subject matter\, each one emerging through their respective names: birth\, weave\, and ascension. The suggested grouping is not only structured to reflect an appropriate mathematical division for each cycle\, but more-so to produce contextual sense\, which results in an excellent functionality of the poems as separate subsections. The three layers have their own marks and thematic fullness. Each of them has its own fluctuation\, from an introduction to its own sense of culmination and resolution\, which leads once again to the emergence of a new exaltation in the coming of the next cycle.\nThe strength of Shopov’s poetry as a playwright forced me to do one unorthodox intervention relating to the verbal component\, that is the decision to include the spoken segments of his poetry and to integrate them into the music\, scenes\, or to present them as a letter present in the scene’s design; a decision which lended the performance a unique quality of its own.\nSonja Zdravkova-Dzeparoska\nCatalog
URL:https://operabalet.mk/en/event/prayers-of-my-body-premiere-20-12-2023/
LOCATION:Array
CATEGORIES:ballet
ATTACH;FMTTYPE=image/jpeg:https://operabalet.mk/en/wp-content/uploads/sites/2/2023/10/web-Molitvi-na-moeto-telo-final-copy.jpg
END:VEVENT
END:VCALENDAR