BEGIN:VCALENDAR
VERSION:2.0
PRODID:-//National opera and ballet - ECPv4.0.7//NONSGML v1.0//EN
CALSCALE:GREGORIAN
METHOD:PUBLISH
X-WR-CALNAME:National opera and ballet
X-ORIGINAL-URL:https://operabalet.mk/en
X-WR-CALDESC:Events for National opera and ballet
BEGIN:VEVENT
DTSTART;TZID="UTC+0":20211030T200000
DTEND;TZID="UTC+0":20211030T223000
DTSTAMP:20260423T140350
CREATED:20211021T141122
LAST-MODIFIED:20211021T142404
UID:1120-1635624000-1635633000@operabalet.mk
SUMMARY:PREMIERE - Adolphe Adam "GISELLE" (30.10.2021)
DESCRIPTION:PREMIERE\n Adolphe Adam\n GISELLE\n 30.10.2021\n Start: 20.00 h.\nConductor: Ivan Eminovikj\nChoreographer: Jean Coralie\, Jules Perot\, Marius Petipa\, Leonid Lavrovski\nAdaptation: Irena Pasarikj (Croatia)\nScenographer: Aleksandar Noshpal and Mihajlo Stojanovski\nCostume designer: Alexander Noshpal\nAssistant costume designer: Angela Bogeska\nConcert Master: Verica Lambevska\nLight design: Milcho Aleksandrov\nRepetitours: Goran Bozhinov\, Aleksandra Mijalkova\, Lora Tarchugovska\, Biljana Pasharikovska\nPhoto and graphic design: Emil Petrov\nPerforming:\nGiselle: Marija Kihcevska Shokarovska\nAlbert: Vasily Chichiashvili (Georgia)\nHilarion: Igor Velanoski\nMirta: Ivana Kocevska\nPa de de: Hristina Nakjevska\, Andrew Cook (England)\nMother: Marija Josifovska Ristovska\nBatilda: Marija Brdaroska\nCount: Aleksandar Petkovski\nEscort of the Count: Dragan Kochoski\nThe ballet ensemble and the orchestra of the National Opera and Ballet
URL:https://operabalet.mk/en/event/premiere-adolphe-adam-giselle-30-10-2021/
LOCATION:Array
CATEGORIES:ballet
ATTACH;FMTTYPE=image/png:https://operabalet.mk/en/wp-content/uploads/sites/2/2021/10/Zizel-Web-sajt_eng_alb.png
END:VEVENT
END:VCALENDAR