BEGIN:VCALENDAR
VERSION:2.0
PRODID:-//National opera and ballet - ECPv4.0.7//NONSGML v1.0//EN
CALSCALE:GREGORIAN
METHOD:PUBLISH
X-WR-CALNAME:National opera and ballet
X-ORIGINAL-URL:https://operabalet.mk/en
X-WR-CALDESC:Events for National opera and ballet
BEGIN:VEVENT
DTSTART;TZID="UTC+0":20170225T200000
DTEND;TZID="UTC+0":20170225T223000
DTSTAMP:20260425T161557
CREATED:20170205T200312
LAST-MODIFIED:20170209T125602
UID:435-1488052800-1488061800@operabalet.mk
SUMMARY:RAYMONDA - ALEXANER GLAZUNOV (25.02.2017)
DESCRIPTION:Choreographer: Victor Yaremenko (Ukraine)\nConductor: Bisera Chadlovska\nSet designer: Andrei Zlobin (Ukraine)\nCostume design: Ghana Ipatieva (Ukraine)\nTeacher-tutor: Edina Papo (BiH)\nRépétiteurs: Tanja Vujisich Todorovska\, Lora Tarchugovska\, Biljana Pasharikovska\, Goran Bozhinov\nConcert Master: Climent Todorovski\n\nStarring:\nRaymonda: Marija Kichevska Shokarovska\nJean de Brienne: Boban Kovachevski\nAbdurrahman: Vasil Chichijashvili (Georgia)\nWhite Lady: Natasha Josifovska\n\nParticipating the entire ballet ensemble and the orchestra of MOB
URL:https://operabalet.mk/en/event/raymonda-alexaner-glazunov-25-02-2017/
LOCATION:Blvd. Goce Delchev 4\, Skopje\, 1000\, Macedonia
CATEGORIES:ballet
ATTACH;FMTTYPE=image/jpeg:https://operabalet.mk/en/wp-content/uploads/sites/2/2017/02/rajmonda-web.jpg
END:VEVENT
END:VCALENDAR