BEGIN:VCALENDAR
VERSION:2.0
PRODID:-//National opera and ballet - ECPv4.0.7//NONSGML v1.0//EN
CALSCALE:GREGORIAN
METHOD:PUBLISH
X-WR-CALNAME:National opera and ballet
X-ORIGINAL-URL:https://operabalet.mk/en
X-WR-CALDESC:Events for National opera and ballet
BEGIN:VEVENT
DTSTART;TZID="UTC+0":20190326T200000
DTEND;TZID="UTC+0":20190326T223000
DTSTAMP:20260424T073734
CREATED:20190305T224834
LAST-MODIFIED:20190928T122009
UID:827-1553630400-1553639400@operabalet.mk
SUMMARY:RAYMONDA - ALEXANDER GLAZUNOV (26.3.2019)
DESCRIPTION:Choreographer: Victor Yaremenko (Ukraine)\nConductor: Eduard Ambartsumian (Russia)\nSet designer: Andrei Zlobin (Ukraine)\nCostume design: Ghana Ipatieva (Ukraine)\nRépétiteurs: Goran Bozhinov\, Lora Tarchugovska\, Biljana Pasharikovska\nConcert Master: Kliment Todoroski\n\nCast:\nRaymonda: Marija Kichevska Shokarovska\nJean de Brienne: Vasil Chichiashvili (Georgia)\nAbdurrahman: Davide Bufone (Italy)\nWhite Lady: Natasha Josifovska\n\nPerforming soloist\, the entire ballet ensemble and the orchestra of MOB
URL:https://operabalet.mk/en/event/raymonda-alexaner-glazunov-26-3-2019/
LOCATION:Blvd. Goce Delchev 4\, Skopje\, 1000\, Macedonia
CATEGORIES:ballet
ATTACH;FMTTYPE=image/jpeg:https://operabalet.mk/en/wp-content/uploads/sites/2/2017/02/rajmonda-web.jpg
END:VEVENT
END:VCALENDAR