BEGIN:VCALENDAR
VERSION:2.0
PRODID:-//National opera and ballet - ECPv4.0.7//NONSGML v1.0//EN
CALSCALE:GREGORIAN
METHOD:PUBLISH
X-WR-CALNAME:National opera and ballet
X-ORIGINAL-URL:https://operabalet.mk/en
X-WR-CALDESC:Events for National opera and ballet
BEGIN:VEVENT
DTSTART;TZID="UTC+0":20230312T200000
DTEND;TZID="UTC+0":20230312T210000
DTSTAMP:20260423T100407
CREATED:20230310T131524
LAST-MODIFIED:20230310T183230
UID:1321-1678651200-1678654800@operabalet.mk
SUMMARY:REMEMBRANCE  MARCH 11 THE HOLOCAUST OF THE MACEDONIAN JEWS(12.3.2023)
DESCRIPTION:\nRemembrance March 11th – Concert\n 12.3.2023 – 20:00\nREMEMBRANCE MARCH 11 THE HOLOCAUST OF THE MACEDONIAN JEWS\nDuration: 60 minutes\nParticipants:\nThe Orchestra of the NI Philharmonic of the Republic of North Macedonia\n The Choir of the NI National Opera and Ballet\nConductor: Bisera Chadlovska\nChoirmaster: Gjurgica Dashikj\nAccompanist: Jordan Petrushevski\nDirector: Trajko Jordanovski\nPROGRAM\nChoral pieces\nRafailo Blam: Joshev Beseter\nMeir Finkeistein: L’Dor va dor\nD. Zehavi: Eli\, Eli\nMusical pieces\nG. Verdi: The Chorus of the Jews from the Opera "Nabucco"\nW. A. Mozart: "Requiem"\n- Requiem\n- Dies irae\n- Lacrimosa
URL:https://operabalet.mk/en/event/remembrance-march-11-the-holocaust-of-the-macedonian-jews12-3-2023/
LOCATION:Array
CATEGORIES:Concert
ATTACH;FMTTYPE=image/png:https://operabalet.mk/en/wp-content/uploads/sites/2/2023/03/web-bannerfilharmonija.png
END:VEVENT
END:VCALENDAR