BEGIN:VCALENDAR
VERSION:2.0
PRODID:-//National opera and ballet - ECPv4.0.7//NONSGML v1.0//EN
CALSCALE:GREGORIAN
METHOD:PUBLISH
X-WR-CALNAME:National opera and ballet
X-ORIGINAL-URL:https://operabalet.mk/en
X-WR-CALDESC:Events for National opera and ballet
BEGIN:VEVENT
DTSTART;TZID="UTC+0":20230526T200000
DTEND;TZID="UTC+0":20230526T213000
DTSTAMP:20260423T095813
CREATED:20230410T143741
LAST-MODIFIED:20230518T112012
UID:1340-1685131200-1685136600@operabalet.mk
SUMMARY:"Requiem" - GIUSEPPE VERDI (26.5.2023)
DESCRIPTION:\nGIUSEPPE VERDI\n "Requiem"\n 26.05.2023 start 20h.\nConductor: Emil Tabakov (Bulgaria)\nConcertmaster: Vladimir Kostov\nChoir-master: Gjurgjjica Dashikj\nLight design: Pero Marachkov\nAccompanist: Elena Siljanoska\, Janinka Nevcheva\, Andreja Naunov\, Jordan Petrushevski\nSoloists:\nBesa Llugiqi: soprano (Kosovo)\nSanya Anastasia: mezzo-soprano (Serbia)\nNikola Kitanovski: tenor\nIgor Durlovski: bass\nThe choir of the National Opera and Ballet and the Philharmonic Orchestra of the Republic of North Macedonia\n“Requiem” by the Italian music master Giuseppe Verdi is one of the most powerful\, most dramatic works in the history of classical music. This work is a wonderful fusion of opera\, drama\, symphony\, exciting virtuosic solos\, joy and happiness\, pathos and grief\, simple “sentences” that stir the mind\, and deep philosophical ideas whose essence is worth thinking about. . The masterpiece is devoted to the famous Italian writer Alessandro Manzoni. Composer Johannes Brahms declared that “only a genius could write a masterpiece like this!” Verdi’s Requiem is a work of “most concentrated” emotions – all human feelings packed into so few pages. The music is direct and powerful\, disturbing\, majestic...
URL:https://operabalet.mk/en/event/requiem-giuseppe-verdi-26-5-2023/
LOCATION:Array
CATEGORIES:Concert
ATTACH;FMTTYPE=image/jpeg:https://operabalet.mk/en/wp-content/uploads/sites/2/2023/04/requiem_nov2023.jpg
END:VEVENT
END:VCALENDAR