BEGIN:VCALENDAR
VERSION:2.0
PRODID:-//National opera and ballet - ECPv4.0.7//NONSGML v1.0//EN
CALSCALE:GREGORIAN
METHOD:PUBLISH
X-WR-CALNAME:National opera and ballet
X-ORIGINAL-URL:https://operabalet.mk/en
X-WR-CALDESC:Events for National opera and ballet
BEGIN:VEVENT
DTSTART;TZID="UTC+0":20190315T200000
DTEND;TZID="UTC+0":20190315T230000
DTSTAMP:20260424T112801
CREATED:20190217T220117
LAST-MODIFIED:20190218T100528
UID:814-1552680000-1552690800@operabalet.mk
SUMMARY:RIGOLETTO - Giuseppe Verdi (15.3.2019)
DESCRIPTION:\n\nConductor: Bisera Chadlovska\nDirector: Nina Naydenova (Bulgaria)\nAss. Director: Trajko Jordanovski\nSet design: Zhivojin Trajanovic\nCostume design: Marija Pupuchevska\nChoreography: Sasha Evtimova\, Kiro Pavlov\nConcert Master:\nLight designer: Milcho Aleksandrov\n\nCAST:\nRigoletto: Riste Velkov\nGilda: Nade Talevska\nDuke of Mantua: Zoran Sotirov\nSparafucile: Aleksandar Stefanovski\nMaddalena: Irena Kavkalevska\nCount Monterone: Ernes Ibraimovski\nCount Ceprano: Dime Petrov\nCountess Ceprano:Katerina Stojanovska\nMarullo: Dragan Ampov\nBorsa: Dejan Stoev\nGiovanna: Ana Rojdeva\nA Page: Desanka Gligorijevikj\nA Court Usher: Dimitar Kozhuharov\nIn the house of the Duke of Mantua a ball takes place. The Duke romances the countess Cheprano\, while Rigoletto\, the clown of the court makes fun of her husband- Count Cheprano. Marullo tells everyone that he has seen Rigoletto with a young lover so they make a pact to abduct her. Count Monterone arrives at the ball and everyone mocks him for his daughter who has fallen for the Duke’s sweet talk. Rigoletto doesn’t spare him of his jokes. Montereone is angry and curses the Duke and Rigoletto.\n\nRigoletto leaves the court and is seriously distraught by Monterone’s curse. He meets Sparafucille who offres him his professional assassination services.\n\nAt home and at peace\, Rigoletto talks to his daughter Gilda and tells the maid Giovanna not to let anyone in the house as he leaves. The Duke comes in disguise and bribes Giovanna to let him in. He expresses his love and infatuation to Gilda as Marullo and his friends gather close to the house to abduct Gilda. Rigoletto accompanies them\, blindfolded and fooled that he is helping them to kidnap Countess Cheprano. He holds the ladder as the man abduct his daughter. Once he takes the blindfold off and realizes what has happened he is devastated and sees the event as a fulfillment of Monterone’s curse.\n\nAt the Duke’s house the men find out that Gilda is Rigoletto’s daughter. He bursts into the room and Gilda\, ashamed runs in her father’s arms. She begs him to forgive the Duke. In a seedy pub in the suburbs Rigoletto requests Sparafucile to kill the Duke for a large sum of money. He sends Gilda away in men’s clothes but she is decisive in meeting the Duke whom she has fallen in love with. She overhears Maddalena begging her brother Sparafucile not to kill the Duke because she too has also fallen in love with him.  Sparafucile tells her that he has already received money\, so he needs a substitute. Gilda has heard this talk between Sparafucile and Maddalena and at the door of the pub she becomes the victim of a murder. Rigoletto wants to see the Duke’s body wrapped in a body sack. In horror he sees it is his daughter who spends her last hour begging her father for forgiveness. Rigoletto remembers Monterone’s curse\, as Gilda dies in his arms.
URL:https://operabalet.mk/en/event/rigoletto-giuseppe-verdi-15-3-2019/
LOCATION:Blvd. Goce Delchev 4\, Skopje\, 1000\, Macedonia
CATEGORIES:opera
ATTACH;FMTTYPE=image/jpeg:https://operabalet.mk/en/wp-content/uploads/sites/2/2016/04/rigoletto.jpg
END:VEVENT
END:VCALENDAR