BEGIN:VCALENDAR
VERSION:2.0
PRODID:-//National opera and ballet - ECPv4.0.7//NONSGML v1.0//EN
CALSCALE:GREGORIAN
METHOD:PUBLISH
X-WR-CALNAME:National opera and ballet
X-ORIGINAL-URL:https://operabalet.mk/en
X-WR-CALDESC:Events for National opera and ballet
BEGIN:VEVENT
DTSTART;TZID="UTC+0":20210602T200000
DTEND;TZID="UTC+0":20210602T210000
DTSTAMP:20260423T134241
CREATED:20210521T101309
LAST-MODIFIED:20210521T101309
UID:1083-1622664000-1622667600@operabalet.mk
SUMMARY:Romantic ballet night (2.6.2021)
DESCRIPTION:\nRomantic ballet night (2.6.2021)\nChoreographеr: August Bournonville (Denmark)\nMusic: H. S. Paulli\, H. C. Lumbye\,  V. C. Holm\, Е. Helsted\nStaged and Produced by Eva Kloborg and Frank Andersen (Denmark)\nSet designer: Zoran Nikolovski\nCostume designer: Marija Pupuchevska\nAssistant to the Producers: Sasha Evtimova\nRepetitours: Goran Bozhinov\, Aleksandra Mijalkova\, Lora Tarchugovska\, Sasha Evtimova\, Dafina Daniloska Kochovska\n"Conservatory"\nMaster: Balash Lashei (Hungary)\nTwo girls:Hristina Nakjevska\, Simona Mitovska\nMen: Miro Mitrashinovikj\, Andrew Cook (England)\, Nikola Orso\, Jan Kisilev\nEnsemble:\nGirls:  Angela Velevska\, Mila Ninovska\, Ilijana Danilov\, Angela Bogatinova\, Bojana Hristovska\, Ivana Dimkoska\, Andrijana Bogatinoska\, Violeta Karajanova\, Teodora Stavrevska\, Melanija Gocevska\, Matea Karevski\, Martina Dimovska\, Eva Dzingova\, Isidora Kitanovikj\n"La Ventana"\nSenorita: Mimi Pop Aleksova Atanasovska\nSenior: Boban Kovacevski\nMirror: Sasha Evtimova\nPa de trois: Ilijana Danilov\, Martina Dimkoska\, Balaz Lashei (Hungary)\, Vili Karajanova\nEnsemble:\nWomen: Slavica Misheva\, Cece Maksimoska\, Bistra Ivanova\, Brankica Joveska\, Andrijana Bogatinoska\, Teodora Stavrevska\nMen: Agim Baftii\, Martin Sazdovski\, Christian Yangos\, Salvatore Laudani\, Borjan Tetiev\, Marko Arsov\n**********************************************\n*The event will be held according to the protocols provided by the current situation caused by the Covid-19 pandemic \, approved by the Commission on Infectious Diseases. It is mandatory to wear a protective mask. Please respect the protection measures.\n*The online ticket schedule is in pairs of two seats next to each other\, for example seats 5 and 6 are for sale\, a gap of two free seats\, then seats 9 and 10 are for sale. If you need a single ticket or a combination of 3  connected seats  please contact us at the phone number\n078 426 536.
URL:https://operabalet.mk/en/event/romantic-ballet-night-2-6-2021/
LOCATION:Array
CATEGORIES:ballet
ATTACH;FMTTYPE=image/jpeg:https://operabalet.mk/en/wp-content/uploads/sites/2/2021/03/burnonvil2.jpg
END:VEVENT
END:VCALENDAR