BEGIN:VCALENDAR
VERSION:2.0
PRODID:-//National opera and ballet - ECPv4.0.7//NONSGML v1.0//EN
CALSCALE:GREGORIAN
METHOD:PUBLISH
X-WR-CALNAME:National opera and ballet
X-ORIGINAL-URL:https://operabalet.mk/en
X-WR-CALDESC:Events for National opera and ballet
BEGIN:VEVENT
DTSTART;TZID="UTC+0":20231006T200000
DTEND;TZID="UTC+0":20231006T210000
DTSTAMP:20260423T122632
CREATED:20230921T092115
LAST-MODIFIED:20231004T134028
UID:1380-1696622400-1696626000@operabalet.mk
SUMMARY:SAGA IDENTITIES - PREMIERE  (6.10.2023)
DESCRIPTION:\nSAGA\n(Identities) \nModern Ballet\nNational Opera and Ballet\, a 2023 production\nChoreographer and Director: Risima Risimkin\nMusic: Toni Kitanovski\nLibretto: Matea Mijanovikj and Risima Risimkin\nCostumes: Blagoj Micevski\nScenography: Matea Mijanovikj\nLighting Designer: Milcho Aleksandrov\nAssistant Tutors: Dafina Daniloska – Kochevska and Maja Mitrovska – Bogojevska\nStage managers: Dubravka Shopova and Tijana Tarchugovska – Georgieva\nAccompanists: Marjan Vasilevski and Stefan Pehchevski\nPERFORMING:\nRed Thread – Marija Kichevska - Shokarovska\, Natasha Trendafilova - Gicev\nBlack Thread – Mimi Pop Aleksova – Atanasovska\, Ilijana Danilov\nWort – Boban Kovachevski\, Balasz Lochai (Hungary)\nStitcher – Sasha Evtimova\, Hristina Nakjevska\nSpring – Balasz Lochai (Hungary)\, Francisco Jimenez Ruiz (Spain)\nBliss – Natasha Trendafilova – Gicev\, Amanda Rocha (Brazil)\nPoplar – Ilijana Danilov\, Medina Jusufovikj\nRose – Hristina Nakjevska\, Matea Karevski\nLonging – Alfred Iago (England)\, Francisco Jimenez Ruiz (Spain)\nLeaders: Andrew Cook (England)\, Veselin Trajkovski\, Miroslav Mitrashinovikj\, Igor Velanoski\, Jan Kisilev\nVocals: Mila Ninovska\, Amanda Rocha (Brazil)\, Medina Jusufovikj\, Angela Velevska\nSaga: Matea Karevski\, Martina Dimovska\, Ivana Dimkoska\, Melanija Gocevska\, Andrijana Bogatinoska\, Angela Bogatinova\, Martina Cvetanoska\, Eva Perkovska\, Teodora Stavrevska\, Isidora Kitanovikj\, Violeta Karajanova\, Dragana Ilievska\, Kristijan Jangos\, Nikola Hourseau\, Todor Stojanov\, Marin Anchevski\, Agim Baftii\, Stefan Kochevski\nWith the participation of the debutantes\, soloists and ensemble with the Ballet of the National Institution “National Opera and Ballet”\nDuration: 70 min.\n \n 
URL:https://operabalet.mk/en/event/saga-identities-premiere-ballet-6-10-2023/
LOCATION:Array
CATEGORIES:ballet
ATTACH;FMTTYPE=image/jpeg:https://operabalet.mk/en/wp-content/uploads/sites/2/2023/09/Saga_sovremen-balet_FB_logos-2048x1152-1.jpg
END:VEVENT
END:VCALENDAR