BEGIN:VCALENDAR
VERSION:2.0
PRODID:-//National opera and ballet - ECPv4.0.7//NONSGML v1.0//EN
CALSCALE:GREGORIAN
METHOD:PUBLISH
X-WR-CALNAME:National opera and ballet
X-ORIGINAL-URL:https://operabalet.mk/en
X-WR-CALDESC:Events for National opera and ballet
BEGIN:VEVENT
DTSTART;TZID="UTC+0":20190424T200000
DTEND;TZID="UTC+0":20190424T204500
DTSTAMP:20260424T102513
CREATED:20190401T140704
LAST-MODIFIED:20190409T094952
UID:835-1556136000-1556138700@operabalet.mk
SUMMARY:SCHEHERAZADE - N. R. KORSAKOV (24.4.2019)
DESCRIPTION:Conductor:\nChoreography: Mihali Krapivin (Russia)\nSet designer: Marija Veteroska\nCostume designer: Maja Bursac (Serbia)\nRepetitors: prof. MA Tanja Vujisikj Todorovska\, Lora Tarchugovska\nLight designer: Milcho Aleksandrov\nConcert master:\n\nCAST:\nZoebéide: Aleksandra Mijalkova\nThe Golden Slave: Vasili Chichiashvili (Georgia)\n\nPreforming Corps de Ballet and Orchestra of MOB
URL:https://operabalet.mk/en/event/scheherazade-n-r-korsakov-24-4-2019/
LOCATION:Blvd. Goce Delchev 4\, Skopje\, 1000\, Macedonia
CATEGORIES:ballet
ATTACH;FMTTYPE=image/jpeg:https://operabalet.mk/en/wp-content/uploads/sites/2/2019/04/SHEHEREZADA-web..jpg
END:VEVENT
END:VCALENDAR