BEGIN:VCALENDAR
VERSION:2.0
PRODID:-//National opera and ballet - ECPv4.0.7//NONSGML v1.0//EN
CALSCALE:GREGORIAN
METHOD:PUBLISH
X-WR-CALNAME:National opera and ballet
X-ORIGINAL-URL:https://operabalet.mk/en
X-WR-CALDESC:Events for National opera and ballet
BEGIN:VEVENT
DTSTART;TZID="UTC+0":20250117T200000
DTEND;TZID="UTC+0":20250117T220000
DTSTAMP:20260423T100301
CREATED:20250103T131505
LAST-MODIFIED:20250103T131505
UID:1565-1737144000-1737151200@operabalet.mk
SUMMARY:SCHEHERAZADE - Nikolai Rimsky Korsakov / WALPURGIS NIGHT - Charles Gounod (17.1.2025)
DESCRIPTION:\nSCHEHERAZADE - Nikolai Rimsky Korsakov (ballet)\nConductor: Bisera Chadlovska\nChoreographer: Mikhail Krapivin (Russia) - originally directed by Mikhail Fokin\nScenographer: Marija Veterovska (after the scenography of L. Baxt)\nCostume designer: Maja Bursac (Serbia) - after costume design by L. Baxt\nConcert Master: Verica Lambevska\nTutors: Volodymyr Borisov (Ukraine)\, Kiro Pavlov\, Aleksandra Mijalkova\, Sasha Evtimova\, Dafina Daniloska-Kochevska\, Marija Josifovska Ristovska\,\nPerforming:\nZabeida: Natasha Trendafilova Gicev\, Ivana Kochevska\, Iliana Danilov\nGolden Slave: Francisco Jimenez Ruiz (Spain)\, Balazs Lochei (Hungary)\, Valeri Lubenko (Ukraine)\nEmperor Shahriyar is resting in his chamber. His brother Chess Zeman is entertained by harem girls with songs and dance. Shahriyar is only interested in his favorite Zabeida\, but Zeman doubts her fidelity. Shahriyar\, under the influence of Zeman\, announces that he will go hunting\, and the girls from the harem plot Zabeida to approach Shahriyar and wish him luck in the hunt\, in order to dispel any doubts.\nWhen the men leave\, the girls bribe the chief eunuch who keeps them from opening the door of the harem.\nBlack slaves enter the harem and begin orgies with Shahriyar's wives. Zabeida chooses for herself the most beautiful among them.\nShahriyar suddenly returns. Zeman's suspicion is confirmed. The death penalty arrives for slaves and eunuchs.\nZabeida begs the emperor for mercy and convinces him of her faithful love. Although he hesitates for a moment\, Shahriyar sacrifices his love to save his honor.\nZabeida\, who does not find a solution\, commits suicide in the arms of Emperor Shahriyar.\n***PAUSE***\nWALPURGIS NIGHT - Charles Gounod (ballet)\n(Ballet part from the opera "Faust" by Charles Gounod)\nConductor: Bisera Chadlovska\nChoreographer: Mikhail Lavrovsky\nTranslated and directed by Yuri Myachin (Russia)\nScenographer: Ilija Arizanov\nCostume designer: Izabela Ponjavikj\nConcertmaster: Verica Lambevska\nSoloists: Hristina Nakjevska Mitrašinović\, Francisco Himénez Ruiz (Spain)\, Balazs Locei (Hungary)\, Valeriy Ljubenko (Ukraine)\nPerforming primas\, distinguished soloists\, soloists\, the ballet ensemble of the National Opera accompanied by the orchestra of the National Opera and Ballet.\nSynopsis Scheherazade:\nEmperor Sharkhiyar is resting in his chamber. His brother Shah Zeman is entertained by the harem girls with song and dance. Shahriar is only interested in his beloved Zabeida\, but Zeman doubts her loyalty. Shahriar\, falling under Zeman's influence\, announces that he will go hunting\, and the girls from the harem persuade Zabeida to approach Shahriar and wish him luck in the hunt\, in order to remove any suspicion. When the men leave\, the girls bribe the chief eunuch who guards them to open the door to the harem. The black slaves enter the harem and begin orgies with Shahriar's wives. Zabeida chooses the most beautiful among them for herself. Suddenly Shahriar returns. Zeman's suspicions are confirmed. The death sentence arrives for the slaves and eunuchs. Zabeida begs the king for mercy and convinces him of her faithful love. Although he hesitates for a moment\, Shahriar sacrifices his love to save his honor. Zabeida\, unable to find a solution\, commits suicide in the arms of Tsar Shahriy.\nSynopsis Walpurgis Night\nOn January 27\, 1949\, the first independent ballet performance of the ensemble was performed\, with "Walpurgis Night"\, the ballet part of the opera "Faust" by Charles Gounod\, choreographed by Gjorgji Makedonski. In 1949\, the Ballet of the Macedonian National Theater was officially established.
URL:https://operabalet.mk/en/event/scheherazade-nikolai-rimsky-korsakov-walpurgis-night-charles-gounod-17-1-2025/
LOCATION:Array
CATEGORIES:ballet
ATTACH;FMTTYPE=image/jpeg:https://operabalet.mk/en/wp-content/uploads/sites/2/2022/06/sheherezada_valpurgiska.jpg
END:VEVENT
END:VCALENDAR