BEGIN:VCALENDAR
VERSION:2.0
PRODID:-//National opera and ballet - ECPv4.0.7//NONSGML v1.0//EN
CALSCALE:GREGORIAN
METHOD:PUBLISH
X-WR-CALNAME:National opera and ballet
X-ORIGINAL-URL:https://operabalet.mk/en
X-WR-CALDESC:Events for National opera and ballet
BEGIN:VEVENT
DTSTART;TZID="UTC+0":20221007T200000
DTEND;TZID="UTC+0":20221007T220000
DTSTAMP:20260423T180639
CREATED:20220915T102103
LAST-MODIFIED:20221004T143051
UID:1218-1665172800-1665180000@operabalet.mk
SUMMARY:SCHEHERAZADE - Nikolai Rimsky Korsakov / WALPURGIS NIGHT - Charles Gounod (7.10.2022)
DESCRIPTION:\nThe Ballet and the Orchestra of the National Opera and Ballet and guests from the ballet of the Varna State Opera - Bulgaria\n "SCHEHEREZADE" AND "WALPURGIAN NIGHT"\nSCHEHERAZADE - Nikolai Rimsky Korsakov (ballet)\nConductor: Grigor Palikarov (Bulgaria)\nChoreographer: Mikhail Krapivin (Russia) - originally directed by Mikhail Fokin\nScenographer: Marija Veterovska (after the scenography of L. Baxt)\nCostume designer: Maja Bursac (Serbia) - after costume design by L. Baxt\nConcert Master: Kliment Todoroski\nTutors: Ella Stebljak (Ukraine)\, Goran Bozhinov\, Aleksandra Mijalkova\, Lora Tarcugovska\, Dafina Daniloska-Kochevska\nLight Design: Milcho Aleksandrov\nSoloists:\nZabeida: Ivana Kocevska\nGolden Slave: Balázs Lőcsei (Hungary)\nEmperor Shahriyar is resting in his chamber. His brother Chess Zeman is entertained by harem girls with songs and dance. Shahriyar is only interested in his favorite Zabeida\, but Zeman doubts her fidelity. Shahriyar\, under the influence of Zeman\, announces that he will go hunting\, and the girls from the harem plot Zabeida to approach Shahriyar and wish him luck in the hunt\, in order to dispel any doubts.\nWhen the men leave\, the girls bribe the chief eunuch who keeps them from opening the door of the harem.\nBlack slaves enter the harem and begin orgies with Shahriyar's wives. Zabeida chooses for herself the most beautiful among them.\nShahriyar suddenly returns. Zeman's suspicion is confirmed. The death penalty arrives for slaves and eunuchs.\nZabeida begs the emperor for mercy and convinces him of her faithful love. Although he hesitates for a moment\, Shahriyar sacrifices his love to save his honor.\nZabeida\, who does not find a solution\, commits suicide in the arms of Emperor Shahriyar.\n***PAUSE***\nWALPURGIS NIGHT - Charles Gounod (ballet)\nConductor: Grigor Palikarov (Bulgaria)\nChoreographer: Leonid Lavrovski\nChoreography adaptation: Svetlana Tonsheva (Bulgaria)\nCostume design: Izabela Ponjavikj\nConcert Master: Kliment Todoroski\nSoloists:\nMarija Kichevska Shokarovska\, Pavel Kirchev (Bulgaria)\, Marco di Salvo (Bulgaria)
URL:https://operabalet.mk/en/event/scheherazade-nikolai-rimsky-korsakov-walpurgis-night-charles-gounod-7-10-2022/
LOCATION:Array
CATEGORIES:ballet
ATTACH;FMTTYPE=image/jpeg:https://operabalet.mk/en/wp-content/uploads/sites/2/2022/06/sheherezade-walpurgis.jpg
END:VEVENT
END:VCALENDAR