BEGIN:VCALENDAR
VERSION:2.0
PRODID:-//National opera and ballet - ECPv4.0.7//NONSGML v1.0//EN
CALSCALE:GREGORIAN
METHOD:PUBLISH
X-WR-CALNAME:National opera and ballet
X-ORIGINAL-URL:https://operabalet.mk/en
X-WR-CALDESC:Events for National opera and ballet
BEGIN:VEVENT
DTSTART;TZID="UTC+0":20251205T200000
DTEND;TZID="UTC+0":20251205T210000
DTSTAMP:20260423T085407
CREATED:20251008T132535
LAST-MODIFIED:20251014T130006
UID:1675-1764964800-1764968400@operabalet.mk
SUMMARY:SCHEHERAZADE - Nikolai Rimsky Korsakov (05.12.2025)
DESCRIPTION:\nSCHEHERAZADE - Nikolai Rimsky Korsakov (ballet)\nConductor: Bisera Chadlovska\nChoreographer: Mikhail Krapivin (Russia) - originally directed by Mikhail Fokin\nScenographer: Marija Veterovska (after the scenography of L. Baxt)\nCostume designer: Maja Bursac (Serbia) - after costume design by L. Baxt\nConcert Master: Verica Lambevska\nTutors: Volodymyr Borisov (Ukraine)\, Kiro Pavlov\, Aleksandra Mijalkova\, Sasha Evtimova\, Dafina Daniloska-Kochevska\, Marija Josifovska Ristovska\,\nPerforming:\nZabeida: Natasha Trendafilova Gicev\nGolden Slave: Balazs Lochei (Hungary)\nEmperor Shahriyar is resting in his chamber. His brother Chess Zeman is entertained by harem girls with songs and dance. Shahriyar is only interested in his favorite Zabeida\, but Zeman doubts her fidelity. Shahriyar\, under the influence of Zeman\, announces that he will go hunting\, and the girls from the harem plot Zabeida to approach Shahriyar and wish him luck in the hunt\, in order to dispel any doubts.\nWhen the men leave\, the girls bribe the chief eunuch who keeps them from opening the door of the harem.\nBlack slaves enter the harem and begin orgies with Shahriyar's wives. Zabeida chooses for herself the most beautiful among them.\nShahriyar suddenly returns. Zeman's suspicion is confirmed. The death penalty arrives for slaves and eunuchs.\nZabeida begs the emperor for mercy and convinces him of her faithful love. Although he hesitates for a moment\, Shahriyar sacrifices his love to save his honor.\nZabeida\, who does not find a solution\, commits suicide in the arms of Emperor Shahriyar.
URL:https://operabalet.mk/en/event/sheherezada-nikollaj-rimski-korsakov-05-12-2025/
LOCATION:Array
CATEGORIES:ballet
ATTACH;FMTTYPE=image/jpeg:https://operabalet.mk/en/wp-content/uploads/sites/2/2020/02/sherezada-slide.jpg
END:VEVENT
END:VCALENDAR