BEGIN:VCALENDAR
VERSION:2.0
PRODID:-//National opera and ballet - ECPv4.0.7//NONSGML v1.0//EN
CALSCALE:GREGORIAN
METHOD:PUBLISH
X-WR-CALNAME:National opera and ballet
X-ORIGINAL-URL:https://operabalet.mk/en
X-WR-CALDESC:Events for National opera and ballet
BEGIN:VEVENT
DTSTART;TZID="UTC+0":20191223T200000
DTEND;TZID="UTC+0":20191223T220000
DTSTAMP:20260424T151058
CREATED:20191215T122644
LAST-MODIFIED:20191218T172010
UID:939-1577131200-1577138400@operabalet.mk
SUMMARY:"Skanderbeg" -  Fatos Lumani - PREMIERЕ (23.12.2019)
DESCRIPTION:
URL:https://operabalet.mk/en/event/skanderbeg-fatos-lumani-23-12-2019/
LOCATION:Blvd. Goce Delchev 4\, Skopje\, 1000\, Macedonia
CATEGORIES:opera
ATTACH;FMTTYPE=image/jpeg:https://operabalet.mk/en/wp-content/uploads/sites/2/2019/12/skenderbeg_ENG-1.jpg
END:VEVENT
END:VCALENDAR