BEGIN:VCALENDAR
VERSION:2.0
PRODID:-//National opera and ballet - ECPv4.0.7//NONSGML v1.0//EN
CALSCALE:GREGORIAN
METHOD:PUBLISH
X-WR-CALNAME:National opera and ballet
X-ORIGINAL-URL:https://operabalet.mk/en
X-WR-CALDESC:Events for National opera and ballet
BEGIN:VEVENT
DTSTART;TZID="UTC+0":20230210T200000
DTEND;TZID="UTC+0":20230210T223000
DTSTAMP:20260423T122820
CREATED:20230201T132903
LAST-MODIFIED:20230210T095454
UID:1300-1676059200-1676068200@operabalet.mk
SUMMARY:The Barber from Seville - Gioachino Rossini  (10.2.2023)
DESCRIPTION:\nConductor: Andreja Naunov\nDirector: Ursula Horner (Austria)\nAss director: Ljupka Jakimovska \nSet design: Marija Veterovska \nCostume design: Marija Pupuchevska \nConcert master: Kliment Todoroski\nAss choir master: Gjurgica Dashikj\nCorrespondents: Elena Siljanoska\, Janinka Nevcheva\, Jordan Petrushevski\nCAST:\nFigaro: Vasko Zdravkov\nRosina: Biljana Josifov\nCount Almaviva: Blagoj Nacoski\nDon Basilio: Vladimir Sazdovski\nDon Bartolo: Neven Siljanovski\nBerta: Sonja Pendovska Madevska\nFiorello: Dragan Ampov \nAmbrosio: Marko Dimovski\nCaveman: Borko Bidzovski\nPerforming choir and the orchestra of the National Opera & Ballet\nStage managers: Ljupcho Polizov\, Dragan Kostadinovikj\, Marko Pavlevski\nPrompter: Nevena Georgieva\n*duration of the play 150 minutes\nSynopsis\nThe story of the opera takes place in Seville. Rozina is a young girl who is in love with Count Almaviva. The young and handsome Count sings daily under Rosina's window in order to approach her. But Rosina is guarded by the old doctor Bartolo\, who wants to marry her and refuses to let her out of the house. Figaro\, Bartolo's personal barber\, helps Rosina and Almaviva to get to know each other\, presenting Almaviva as a singing teacher. As Figaro shaves Bartolo\, Rosina and Almaviva are making plans about their future.\n\nTo achieve their mutual love\, Rosina and Almaviva are assisted by Figaro\, who brings them minister and witnesses. At that moment the wedding takes place and old Bartola must accept the victory lead by the youth and their love.
URL:https://operabalet.mk/en/event/the-barber-from-seville-gioachino-rossini-10-2-2023/
LOCATION:Array
CATEGORIES:opera
ATTACH;FMTTYPE=image/jpeg:https://operabalet.mk/en/wp-content/uploads/sites/2/2016/10/sevilski_slika.jpg
END:VEVENT
END:VCALENDAR